BEGIN:VCALENDAR
VERSION:2.0
PRODID:-//ohchihuahuacoffeeshop.fr - ECPv6.15.20//NONSGML v1.0//EN
CALSCALE:GREGORIAN
METHOD:PUBLISH
X-WR-CALNAME:ohchihuahuacoffeeshop.fr
X-ORIGINAL-URL:https://ohchihuahuacoffeeshop.fr
X-WR-CALDESC:Évènements pour ohchihuahuacoffeeshop.fr
REFRESH-INTERVAL;VALUE=DURATION:PT1H
X-Robots-Tag:noindex
X-PUBLISHED-TTL:PT1H
BEGIN:VTIMEZONE
TZID:UTC
BEGIN:STANDARD
TZOFFSETFROM:+0000
TZOFFSETTO:+0000
TZNAME:UTC
DTSTART:20250101T000000
END:STANDARD
END:VTIMEZONE
BEGIN:VEVENT
DTSTART;TZID=UTC:20260214T143000
DTEND;TZID=UTC:20260214T160000
DTSTAMP:20260424T233135
CREATED:20260115T132413Z
LAST-MODIFIED:20260213T102515Z
UID:4100-1771079400-1771084800@ohchihuahuacoffeeshop.fr
SUMMARY:Atelier LEGO thème "Défis" 4 à 6 ans
DESCRIPTION:🎉 Atelier LEGO® – Les Défis des Super Constructeurs ! 🧱👧🧒 Pour les enfants de 4 à 6 ans \nPrêt(e) à relever des défis de construction complètement fous ? 💪😄En solo ou en équipe\, viens tester ton imagination et ta créativité pour bâtir\, inventer et surtout… t’amuser à fond  en compagnie d’Olivier notre formateur LEGO! 🚀 \n🏗️ Au programme :👉 Des défis de construction amusants👉 Du travail d’équipe et des fous rires👉 Et bien sûr… un super goûter pour reprendre des forces ! 🍪🍎🥤 \n🕓 Quand ? De 14h30 à 16h00💰 Tarif : 23 € (atelier + goûter compris 😋) \nUn après-midi de jeu\, d’apprentissage et de bonne humeur garantie ! 😍 \n  \nCette activité ravira les jeunes fans de LEGO — un vrai moment de plaisir à partager en ce jour férié ! L’atelier sera maintenu à partir de 3 inscriptions\, nous vous tiendrons informé.
URL:https://ohchihuahuacoffeeshop.fr/atelier/atelier-lego-theme-defis-4-a-6-ans/
LOCATION:Oh Chihuahua Coffee Shop\, place du ventoux\, Venelles\, 13770\, France
CATEGORIES:Atelier enfants
ATTACH;FMTTYPE=image/jpeg:https://ohchihuahuacoffeeshop.fr/wp-content/uploads/2025/10/visuel-atelier-broderie.jpg
END:VEVENT
BEGIN:VEVENT
DTSTART;TZID=UTC:20260221T100000
DTEND;TZID=UTC:20260221T113000
DTSTAMP:20260424T233135
CREATED:20260115T095240Z
LAST-MODIFIED:20260219T091305Z
UID:4087-1771668000-1771673400@ohchihuahuacoffeeshop.fr
SUMMARY:Atelier "Initiation cartes Pokemon" N1
DESCRIPTION:✨ Atelier “Initiation Cartes Pokémon”\, 6 à 8 ans ✨Niveau 1\nVos enfants ont des cartes Pokémon qui dorment dans leur classeur 📘\, sous leur lit 🛏️… ou un peu partout dans la maison ? 😅Et si\, cette fois\, ils apprenaient enfin à s’en servir pour de vrai ? ⚡ \nDans cet atelier ludique et tout en douceur 🧸\, les enfants découvrent : \n\n\nles règles du jeu Pokémon adaptées à leur âge\, nous seront sur un niveau 1🎮\, \n\n\nles bases de la stratégie 🧠\, \n\n\ncomment utiliser leurs cartes autrement que pour les admirer 👀 ou les échanger dans la cour d’école 🎒. \n\n\nParce que oui : les cartes Pokémon\, c’est beau ✨…Mais c’est surtout un jeu de stratégie incroyable 🔥 qui développe la logique\, la concentration et la réflexion. \n⚠️ Attention : risque élevé d’addiction au jeu !Après cet atelier\, vos enfants risquent de vous demander une vraie partie de cartes 🃏…et de délaisser un peu les écrans 📱. (On préfère vous prévenir 😉) \n🎟️ Places limitées à 6 enfants\, pensez à réserver ! \nMatériel fourni : Deck de cartes\, dès de dégâts\, pièce pour tirage au sort. \n“Atelier indépendant\, non affilié à The Pokémon Company.”
URL:https://ohchihuahuacoffeeshop.fr/atelier/atelier-initiation-cartes-pokemon-2/
LOCATION:Oh Chihuahua Coffee Shop\, place du ventoux\, Venelles\, 13770\, France
CATEGORIES:Atelier enfants,Pokemon
ATTACH;FMTTYPE=image/jpeg:https://ohchihuahuacoffeeshop.fr/wp-content/uploads/2025/11/pokemon.jpg
END:VEVENT
END:VCALENDAR