BEGIN:VCALENDAR
VERSION:2.0
PRODID:-//ohchihuahuacoffeeshop.fr - ECPv6.15.20//NONSGML v1.0//EN
CALSCALE:GREGORIAN
METHOD:PUBLISH
X-ORIGINAL-URL:https://ohchihuahuacoffeeshop.fr
X-WR-CALDESC:Évènements pour ohchihuahuacoffeeshop.fr
REFRESH-INTERVAL;VALUE=DURATION:PT1H
X-Robots-Tag:noindex
X-PUBLISHED-TTL:PT1H
BEGIN:VTIMEZONE
TZID:UTC
BEGIN:STANDARD
TZOFFSETFROM:+0000
TZOFFSETTO:+0000
TZNAME:UTC
DTSTART:20240101T000000
END:STANDARD
END:VTIMEZONE
BEGIN:VEVENT
DTSTART;TZID=UTC:20251011T110000
DTEND;TZID=UTC:20251011T140000
DTSTAMP:20260425T040348
CREATED:20250715T114800Z
LAST-MODIFIED:20251003T082019Z
UID:3793-1760180400-1760191200@ohchihuahuacoffeeshop.fr
SUMMARY:Pumpkin week "Le brunch d'automne"
DESCRIPTION:Brunch de Clôture – Pumpkin Week 🎃🍂 \nPour conclure en beauté cette semaine aux couleurs de l’automne\, nous vous invitons à partager un brunch chaleureux et gourmand\, imaginé tout spécialement pour l’occasion. \n🍁 Un moment à savourer ensemble\, pour prolonger la magie de la Pumpkin Week autour d’un repas convivial\, dans une ambiance douce et chaleureuse. \n🧡Le menu : 2 boissons\, (1 latté macchiato et un jus d’orange). Accompagné d’un bagel aux saveurs d’automnes\, un muesli\, fromage blanc et salade de fruits de saison. Et pour finir un ChihuaWOW une petite douceur sucrée et feuilletée qui séduira vos papilles. \nNous sommes ravies de vous proposer ce moment unique\, et avons hâte de vous y retrouver pour célébrer l’automne comme il se doit. Nombre de places limitées à 8.
URL:https://ohchihuahuacoffeeshop.fr/atelier/pumpkin-week-le-brunch-dautomne/
LOCATION:Oh Chihuahua Coffee Shop\, place du ventoux\, Venelles\, 13770\, France
CATEGORIES:Brunch
ATTACH;FMTTYPE=image/jpeg:https://ohchihuahuacoffeeshop.fr/wp-content/uploads/2025/07/brunch-automne.jpg
END:VEVENT
END:VCALENDAR