BEGIN:VCALENDAR
VERSION:2.0
PRODID:-//ohchihuahuacoffeeshop.fr - ECPv6.15.20//NONSGML v1.0//EN
CALSCALE:GREGORIAN
METHOD:PUBLISH
X-WR-CALNAME:ohchihuahuacoffeeshop.fr
X-ORIGINAL-URL:https://ohchihuahuacoffeeshop.fr
X-WR-CALDESC:Évènements pour ohchihuahuacoffeeshop.fr
REFRESH-INTERVAL;VALUE=DURATION:PT1H
X-Robots-Tag:noindex
X-PUBLISHED-TTL:PT1H
BEGIN:VTIMEZONE
TZID:UTC
BEGIN:STANDARD
TZOFFSETFROM:+0000
TZOFFSETTO:+0000
TZNAME:UTC
DTSTART:20240101T000000
END:STANDARD
END:VTIMEZONE
BEGIN:VEVENT
DTSTART;TZID=UTC:20251206T110000
DTEND;TZID=UTC:20251206T140000
DTSTAMP:20260425T004232
CREATED:20251020T084234Z
LAST-MODIFIED:20251020T150228Z
UID:3971-1765018800-1765029600@ohchihuahuacoffeeshop.fr
SUMMARY:Brunch de noël
DESCRIPTION:🎅✨ Brunch de Noël – Samedi 6 décembre ✨🎅 \nOn ne va pas tout vous dire… mais on peut déjà vous promettre une chose :du moelleux\, du croustillant\, du fondant et du “mmmhhh” à chaque bouchée ou presque restons modeste 😋❄️ \nLe menu ? Classé confidentiel jusqu’à votre arrivée (même les lutins n’ont pas réussi à le pirater 🎁🔒)Mais attendez-vous à des saveurs hivernales bien réconfortantes et quelques surprises sorties tout droit du traîneau du Père Noël 🛷 \n🎄 Venez bruncher\, rire\, vous régaler et lancer votre week-end comme il se doit :dans une ambiance cosy\, gourmande et légèrement magique. \n📆 Samedi 6 décembre⚠️ Places limitées (le Père Noël a déjà réservé la sienne)
URL:https://ohchihuahuacoffeeshop.fr/atelier/brunch-de-noel/
CATEGORIES:Brunch
ATTACH;FMTTYPE=image/jpeg:https://ohchihuahuacoffeeshop.fr/wp-content/uploads/2025/10/brunch-de-noel.jpg
END:VEVENT
BEGIN:VEVENT
DTSTART;TZID=UTC:20251226T120000
DTEND;TZID=UTC:20251226T140000
DTSTAMP:20260425T004232
CREATED:20251103T155456Z
LAST-MODIFIED:20251219T111639Z
UID:4008-1766750400-1766757600@ohchihuahuacoffeeshop.fr
SUMMARY:À table "Ensemble"
DESCRIPTION:✨ À table « Ensemble » ✨\nLes fêtes\, c’est super… sauf quand on les passe seul avec sa bûche et Netflix.Alors cette année\, on change la donne ! \nLe vendredi 26 décembre\, on sort les mugs\, les sourires et les bons petits plats pour un moment plein de rires\, de chaleur et de gourmandise 🎄☕️ \nPas besoin d’un +1\, d’un pull moche ou d’un sapin taille XXL —il suffit d’avoir envie de partager un bon moment\,de papoter entre inconnus (qui ne le resteront pas longtemps 😜)et de profiter d’un vrai Noël “ensemble”. \nIci\, on troque la solitude contre des crêpes\, des sourires et un café bien chaud\,et on vous garantit plus de chaleur humaine que dans n’importe quel chocolat chaud ! \n🕒 Vendredi 26 décembre⚠️ Places limitées 10 places maximum. \nVenez manger\, rire\, et prouver qu’à la fin de l’année\,le meilleur cadeau\, c’est juste d’être bien entouré ❤️
URL:https://ohchihuahuacoffeeshop.fr/atelier/a-table-ensemble/
LOCATION:Oh Chihuahua Coffee Shop\, place du ventoux\, Venelles\, 13770\, France
CATEGORIES:Brunch
ATTACH;FMTTYPE=image/jpeg:https://ohchihuahuacoffeeshop.fr/wp-content/uploads/2025/11/visuel-atelier-broderie.jpg
END:VEVENT
END:VCALENDAR