BEGIN:VCALENDAR
VERSION:2.0
PRODID:-//ohchihuahuacoffeeshop.fr - ECPv6.15.20//NONSGML v1.0//EN
CALSCALE:GREGORIAN
METHOD:PUBLISH
X-WR-CALNAME:ohchihuahuacoffeeshop.fr
X-ORIGINAL-URL:https://ohchihuahuacoffeeshop.fr
X-WR-CALDESC:Évènements pour ohchihuahuacoffeeshop.fr
REFRESH-INTERVAL;VALUE=DURATION:PT1H
X-Robots-Tag:noindex
X-PUBLISHED-TTL:PT1H
BEGIN:VTIMEZONE
TZID:Europe/Paris
BEGIN:DAYLIGHT
TZOFFSETFROM:+0100
TZOFFSETTO:+0200
TZNAME:CEST
DTSTART:20240331T010000
END:DAYLIGHT
BEGIN:STANDARD
TZOFFSETFROM:+0200
TZOFFSETTO:+0100
TZNAME:CET
DTSTART:20241027T010000
END:STANDARD
BEGIN:DAYLIGHT
TZOFFSETFROM:+0100
TZOFFSETTO:+0200
TZNAME:CEST
DTSTART:20250330T010000
END:DAYLIGHT
BEGIN:STANDARD
TZOFFSETFROM:+0200
TZOFFSETTO:+0100
TZNAME:CET
DTSTART:20251026T010000
END:STANDARD
BEGIN:DAYLIGHT
TZOFFSETFROM:+0100
TZOFFSETTO:+0200
TZNAME:CEST
DTSTART:20260329T010000
END:DAYLIGHT
BEGIN:STANDARD
TZOFFSETFROM:+0200
TZOFFSETTO:+0100
TZNAME:CET
DTSTART:20261025T010000
END:STANDARD
END:VTIMEZONE
BEGIN:VEVENT
DTSTART;TZID=Europe/Paris:20250303T100000
DTEND;TZID=Europe/Paris:20250303T113000
DTSTAMP:20260425T202924
CREATED:20250105T075803Z
LAST-MODIFIED:20250208T104346Z
UID:2896-1740996000-1741001400@ohchihuahuacoffeeshop.fr
SUMMARY:Atelier cercle de femmes élévation vibration personnelle
DESCRIPTION:Séverine vous accompagnera avec douceur dans cette expérience lumineuse. Cet atelier est une invitation à un voyage intérieur qui permet aux femmes de se reconnecter à leur essence profonde. À travers l’utilisation des huiles essentielles et des couleurs\, il offre un espace privilégié pour élever votre vibration et harmoniser les différentes facettes de votre être : corps\, cœur\, âme et esprit. Le prix comprend l’atelier et une boisson au choix sur place. Plus de détails sur ses ateliers. (6 personnes maximum).
URL:https://ohchihuahuacoffeeshop.fr/atelier/atelier-cercle-de-femmes-elevation-vibration-personnelle/
LOCATION:Oh Chihuahua Coffee Shop\, place du ventoux\, Venelles\, 13770\, France
CATEGORIES:Cercle de femmes,Gestion des émotions
ATTACH;FMTTYPE=image/jpeg:https://ohchihuahuacoffeeshop.fr/wp-content/uploads/2025/01/close-up-people-getting-stronger-together-scaled.jpg
END:VEVENT
BEGIN:VEVENT
DTSTART;TZID=Europe/Paris:20250312T150000
DTEND;TZID=Europe/Paris:20250312T163000
DTSTAMP:20260425T202924
CREATED:20250105T124455Z
LAST-MODIFIED:20250307T151818Z
UID:2912-1741791600-1741797000@ohchihuahuacoffeeshop.fr
SUMMARY:Atelier créatif enfants Créez votre mandala
DESCRIPTION:L’atelier « Création de Mandala » pour enfants est un moment de détente et de créativité. À travers des dessins simples ou plus élaborés\, les enfants apprendront à réaliser des mandalas en utilisant des formes géométriques et des couleurs variées. Cet atelier permet non seulement de stimuler leur imagination\, mais aussi de favoriser la concentration et la patience. En explorant les symétries et les motifs\, les enfants pourront créer leurs propres œuvres uniques\, tout en développant une meilleure compréhension de l’art et de la relaxation. Un véritable voyage au cœur de l’art visuel\, où chaque mandala devient une œuvre personnelle pleine de sens et de beauté. Cet atelier est réservé aux enfants à partir de 5 à 10 ans. Le prix par enfant est de 18 euros . Il comprend l’atelier les fournitures\, et un sirop au choix sur place. Plus de détails sur ses ateliers. (6 enfants maximum).
URL:https://ohchihuahuacoffeeshop.fr/atelier/atelier-creatif-enfants-creez-votre-mandala/
LOCATION:Oh Chihuahua Coffee Shop\, place du ventoux\, Venelles\, 13770\, France
CATEGORIES:Mandala géométrie sacrée
ATTACH;FMTTYPE=image/jpeg:https://ohchihuahuacoffeeshop.fr/wp-content/uploads/2025/01/392115-PCGU7C-412-1.jpg
END:VEVENT
BEGIN:VEVENT
DTSTART;TZID=Europe/Paris:20250324T140000
DTEND;TZID=Europe/Paris:20250324T153000
DTSTAMP:20260425T202924
CREATED:20250106T081853Z
LAST-MODIFIED:20250208T105725Z
UID:2956-1742824800-1742830200@ohchihuahuacoffeeshop.fr
SUMMARY:Atelier cercle de femmes élévation vibration personnelle
DESCRIPTION:Séverine vous accompagnera avec douceur dans cette expérience lumineuse. Cet atelier est une invitation à un voyage intérieur qui permet aux femmes de se reconnecter à leur essence profonde. À travers l’utilisation des huiles essentielles et des couleurs\, il offre un espace privilégié pour élever votre vibration et harmoniser les différentes facettes de votre être : corps\, cœur\, âme et esprit. Le prix comprend l’atelier et une boisson au choix sur place. Plus de détails sur ses ateliers. (6 personnes maximum).
URL:https://ohchihuahuacoffeeshop.fr/atelier/atelier-cercle-de-femmes-elevation-vibration-personnelle-2/
LOCATION:Oh Chihuahua Coffee Shop\, place du ventoux\, Venelles\, 13770\, France
CATEGORIES:Cercle de femmes,Gestion des émotions
ATTACH;FMTTYPE=image/jpeg:https://ohchihuahuacoffeeshop.fr/wp-content/uploads/2025/01/close-up-people-getting-stronger-together-scaled.jpg
END:VEVENT
END:VCALENDAR