BEGIN:VCALENDAR
VERSION:2.0
PRODID:-//ohchihuahuacoffeeshop.fr - ECPv6.15.20//NONSGML v1.0//EN
CALSCALE:GREGORIAN
METHOD:PUBLISH
X-WR-CALNAME:ohchihuahuacoffeeshop.fr
X-ORIGINAL-URL:https://ohchihuahuacoffeeshop.fr
X-WR-CALDESC:Évènements pour ohchihuahuacoffeeshop.fr
REFRESH-INTERVAL;VALUE=DURATION:PT1H
X-Robots-Tag:noindex
X-PUBLISHED-TTL:PT1H
BEGIN:VTIMEZONE
TZID:UTC
BEGIN:STANDARD
TZOFFSETFROM:+0000
TZOFFSETTO:+0000
TZNAME:UTC
DTSTART:20240101T000000
END:STANDARD
END:VTIMEZONE
BEGIN:VTIMEZONE
TZID:Europe/Paris
BEGIN:DAYLIGHT
TZOFFSETFROM:+0100
TZOFFSETTO:+0200
TZNAME:CEST
DTSTART:20240331T010000
END:DAYLIGHT
BEGIN:STANDARD
TZOFFSETFROM:+0200
TZOFFSETTO:+0100
TZNAME:CET
DTSTART:20241027T010000
END:STANDARD
BEGIN:DAYLIGHT
TZOFFSETFROM:+0100
TZOFFSETTO:+0200
TZNAME:CEST
DTSTART:20250330T010000
END:DAYLIGHT
BEGIN:STANDARD
TZOFFSETFROM:+0200
TZOFFSETTO:+0100
TZNAME:CET
DTSTART:20251026T010000
END:STANDARD
BEGIN:DAYLIGHT
TZOFFSETFROM:+0100
TZOFFSETTO:+0200
TZNAME:CEST
DTSTART:20260329T010000
END:DAYLIGHT
BEGIN:STANDARD
TZOFFSETFROM:+0200
TZOFFSETTO:+0100
TZNAME:CET
DTSTART:20261025T010000
END:STANDARD
END:VTIMEZONE
BEGIN:VEVENT
DTSTART;TZID=UTC:20250220T140000
DTEND;TZID=UTC:20250220T153000
DTSTAMP:20260425T232744
CREATED:20241227T084950Z
LAST-MODIFIED:20250208T110535Z
UID:2811-1740060000-1740065400@ohchihuahuacoffeeshop.fr
SUMMARY:Atelier Naturopathe Les secrets du sommeil
DESCRIPTION:Céline vous guidera à travers ce monde complexe afin de comprendre toutes ces phases et leurs bienfaits. Puis vous passerez à la réalisation d’un roll-on à base d’huiles essentielles. Un atelier qui vous apportera les réponses à vos questions et les clefs de la libération. Vos nuits redeviendront douces et agréables grâce aux enseignements de Céline. Venez partager cette expérience. Cet atelier est réservé aux adultes. Le prix comprend l’atelier le roll-on et une boisson au choix sur place. Plus de détails sur ses ateliers. (6 personnes maximum).
URL:https://ohchihuahuacoffeeshop.fr/atelier/atelier-naturopathe-les-secrets-du-sommeil/
LOCATION:Oh Chihuahua Coffee Shop\, place du ventoux\, Venelles\, 13770\, France
CATEGORIES:Atelier sur le sommeil,Naturopathie
ATTACH;FMTTYPE=image/jpeg:https://ohchihuahuacoffeeshop.fr/wp-content/uploads/2024/12/girl-sleeps-bed-morning-with-garland-her-hand-dreams-scaled.jpg
END:VEVENT
BEGIN:VEVENT
DTSTART;TZID=Europe/Paris:20250228T140000
DTEND;TZID=Europe/Paris:20250228T160000
DTSTAMP:20260425T232744
CREATED:20241227T102100Z
LAST-MODIFIED:20250208T110347Z
UID:2851-1740751200-1740758400@ohchihuahuacoffeeshop.fr
SUMMARY:Atelier Naturopathe Les secrets du sommeil
DESCRIPTION:Céline vous guidera à travers ce monde complexe afin de comprendre toutes ces phases et leurs bienfaits. Puis vous passerez à la réalisation d’un roll-on à base d’huiles essentielles. Un atelier qui vous apportera les réponses à vos questions et les clefs de la libération. Vos nuits redeviendront douces et agréables grâce aux enseignements de Céline. Venez partager cette expérience. Cet atelier est réservé aux adultes. Le prix comprend l’atelier le roll-on et une boisson au choix sur place. Plus de détails sur ses ateliers. (6 personnes maximum).
URL:https://ohchihuahuacoffeeshop.fr/atelier/atelier-naturopathe-les-secrets-du-sommeil-2/
LOCATION:Oh Chihuahua Coffee Shop\, place du ventoux\, Venelles\, 13770\, France
CATEGORIES:Atelier sur le sommeil,Naturopathie
ATTACH;FMTTYPE=image/jpeg:https://ohchihuahuacoffeeshop.fr/wp-content/uploads/2024/12/girl-sleeps-bed-morning-with-garland-her-hand-dreams-scaled.jpg
END:VEVENT
END:VCALENDAR