BEGIN:VCALENDAR
VERSION:2.0
PRODID:-//ohchihuahuacoffeeshop.fr - ECPv6.15.20//NONSGML v1.0//EN
CALSCALE:GREGORIAN
METHOD:PUBLISH
X-WR-CALNAME:ohchihuahuacoffeeshop.fr
X-ORIGINAL-URL:https://ohchihuahuacoffeeshop.fr
X-WR-CALDESC:Évènements pour ohchihuahuacoffeeshop.fr
REFRESH-INTERVAL;VALUE=DURATION:PT1H
X-Robots-Tag:noindex
X-PUBLISHED-TTL:PT1H
BEGIN:VTIMEZONE
TZID:Europe/Paris
BEGIN:DAYLIGHT
TZOFFSETFROM:+0100
TZOFFSETTO:+0200
TZNAME:CEST
DTSTART:20240331T010000
END:DAYLIGHT
BEGIN:STANDARD
TZOFFSETFROM:+0200
TZOFFSETTO:+0100
TZNAME:CET
DTSTART:20241027T010000
END:STANDARD
BEGIN:DAYLIGHT
TZOFFSETFROM:+0100
TZOFFSETTO:+0200
TZNAME:CEST
DTSTART:20250330T010000
END:DAYLIGHT
BEGIN:STANDARD
TZOFFSETFROM:+0200
TZOFFSETTO:+0100
TZNAME:CET
DTSTART:20251026T010000
END:STANDARD
BEGIN:DAYLIGHT
TZOFFSETFROM:+0100
TZOFFSETTO:+0200
TZNAME:CEST
DTSTART:20260329T010000
END:DAYLIGHT
BEGIN:STANDARD
TZOFFSETFROM:+0200
TZOFFSETTO:+0100
TZNAME:CET
DTSTART:20261025T010000
END:STANDARD
END:VTIMEZONE
BEGIN:VEVENT
DTSTART;TZID=Europe/Paris:20250301T100000
DTEND;TZID=Europe/Paris:20250301T120000
DTSTAMP:20260425T215242
CREATED:20241227T134045Z
LAST-MODIFIED:20250208T131612Z
UID:2894-1740823200-1740830400@ohchihuahuacoffeeshop.fr
SUMMARY:Atelier décors sur poterie adultes
DESCRIPTION:Carole vous invite à personnaliser des pièces en biscuit prêtes à décorer. Elle se charge de la création des objets à l’avance\, vous offrant un choix de supports : tasses\, assiettes\, bols\, et bien plus encore. L’objectif ? Transformer ces objets du quotidien en pièces uniques\, pratiques et fonctionnelles\, qui passent aussi bien au micro-ondes qu’au lave-vaisselle. Des souvenirs qui resteront. Cet atelier est réservé adultes. Le prix sera variable de 35 à 65 euros selon la pièce choisie\, il comprend l’atelier les fournitures\, la pièce de poterie et une boisson au choix sur place. Plus de détails sur ses ateliers. (6 personnes maximum).
URL:https://ohchihuahuacoffeeshop.fr/atelier/atelier-decors-sur-poterie-adultes-2/
LOCATION:Oh Chihuahua Coffee Shop\, place du ventoux\, Venelles\, 13770\, France
CATEGORIES:Peinture sur poterie,Poterie
ATTACH;FMTTYPE=image/jpeg:https://ohchihuahuacoffeeshop.fr/wp-content/uploads/2024/12/close-up-hand-painting-with-brush-scaled.jpg
END:VEVENT
BEGIN:VEVENT
DTSTART;TZID=Europe/Paris:20250306T140000
DTEND;TZID=Europe/Paris:20250306T160000
DTSTAMP:20260425T215242
CREATED:20250105T121347Z
LAST-MODIFIED:20250208T131726Z
UID:2905-1741269600-1741276800@ohchihuahuacoffeeshop.fr
SUMMARY:Atelier décors sur poterie adultes
DESCRIPTION:Carole vous invite à personnaliser des pièces en biscuit prêtes à décorer. Elle se charge de la création des objets à l’avance\, vous offrant un choix de supports : tasses\, assiettes\, bols\, et bien plus encore. L’objectif ? Transformer ces objets du quotidien en pièces uniques\, pratiques et fonctionnelles\, qui passent aussi bien au micro-ondes qu’au lave-vaisselle. Des souvenirs qui resteront. Cet atelier est réservé adultes. Le prix sera variable de 35 à 65 euros selon la pièce choisie\, il comprend l’atelier les fournitures\, la pièce de poterie et une boisson au choix sur place. Plus de détails sur ses ateliers. (6 personnes maximum).
URL:https://ohchihuahuacoffeeshop.fr/atelier/atelier-decors-sur-poterie-adultes-3/
LOCATION:Oh Chihuahua Coffee Shop\, place du ventoux\, Venelles\, 13770\, France
CATEGORIES:Peinture sur poterie,Poterie
ATTACH;FMTTYPE=image/jpeg:https://ohchihuahuacoffeeshop.fr/wp-content/uploads/2024/12/close-up-hand-painting-with-brush-scaled.jpg
END:VEVENT
BEGIN:VEVENT
DTSTART;TZID=Europe/Paris:20250320T100000
DTEND;TZID=Europe/Paris:20250320T120000
DTSTAMP:20260425T215242
CREATED:20250106T081405Z
LAST-MODIFIED:20250208T132045Z
UID:2950-1742464800-1742472000@ohchihuahuacoffeeshop.fr
SUMMARY:Atelier décors sur poterie adultes
DESCRIPTION:Carole vous invite à personnaliser des pièces en biscuit prêtes à décorer. Elle se charge de la création des objets à l’avance\, vous offrant un choix de supports : tasses\, assiettes\, bols\, et bien plus encore. L’objectif ? Transformer ces objets du quotidien en pièces uniques\, pratiques et fonctionnelles\, qui passent aussi bien au micro-ondes qu’au lave-vaisselle. Des souvenirs qui resteront. Cet atelier est réservé adultes. Le prix sera variable de 35 à 65 euros selon la pièce choisie\, il comprend l’atelier les fournitures\, la pièce de poterie et une boisson au choix sur place. Plus de détails sur ses ateliers. (6 personnes maximum).
URL:https://ohchihuahuacoffeeshop.fr/atelier/atelier-decors-sur-poterie-adultes-5/
LOCATION:Oh Chihuahua Coffee Shop\, place du ventoux\, Venelles\, 13770\, France
CATEGORIES:Peinture sur poterie,Poterie
ATTACH;FMTTYPE=image/jpeg:https://ohchihuahuacoffeeshop.fr/wp-content/uploads/2024/12/close-up-hand-painting-with-brush-scaled.jpg
END:VEVENT
BEGIN:VEVENT
DTSTART;TZID=Europe/Paris:20250325T130000
DTEND;TZID=Europe/Paris:20250325T150000
DTSTAMP:20260425T215242
CREATED:20250106T082014Z
LAST-MODIFIED:20250208T131946Z
UID:2958-1742907600-1742914800@ohchihuahuacoffeeshop.fr
SUMMARY:Atelier décors sur poterie adultes
DESCRIPTION:Carole vous invite à personnaliser des pièces en biscuit prêtes à décorer. Elle se charge de la création des objets à l’avance\, vous offrant un choix de supports : tasses\, assiettes\, bols\, et bien plus encore. L’objectif ? Transformer ces objets du quotidien en pièces uniques\, pratiques et fonctionnelles\, qui passent aussi bien au micro-ondes qu’au lave-vaisselle. Des souvenirs qui resteront. Cet atelier est réservé adultes. Le prix sera variable de 35 à 65 euros selon la pièce choisie\, il comprend l’atelier les fournitures\, la pièce de poterie et une boisson au choix sur place. Plus de détails sur ses ateliers. (6 personnes maximum).
URL:https://ohchihuahuacoffeeshop.fr/atelier/atelier-decors-sur-poterie-adultes-6/
LOCATION:Oh Chihuahua Coffee Shop\, place du ventoux\, Venelles\, 13770\, France
CATEGORIES:Peinture sur poterie,Poterie
ATTACH;FMTTYPE=image/jpeg:https://ohchihuahuacoffeeshop.fr/wp-content/uploads/2024/12/close-up-hand-painting-with-brush-scaled.jpg
END:VEVENT
END:VCALENDAR