BEGIN:VCALENDAR
VERSION:2.0
PRODID:-//ohchihuahuacoffeeshop.fr - ECPv6.15.20//NONSGML v1.0//EN
CALSCALE:GREGORIAN
METHOD:PUBLISH
X-ORIGINAL-URL:https://ohchihuahuacoffeeshop.fr
X-WR-CALDESC:Évènements pour ohchihuahuacoffeeshop.fr
REFRESH-INTERVAL;VALUE=DURATION:PT1H
X-Robots-Tag:noindex
X-PUBLISHED-TTL:PT1H
BEGIN:VTIMEZONE
TZID:Europe/Paris
BEGIN:DAYLIGHT
TZOFFSETFROM:+0100
TZOFFSETTO:+0200
TZNAME:CEST
DTSTART:20240331T010000
END:DAYLIGHT
BEGIN:STANDARD
TZOFFSETFROM:+0200
TZOFFSETTO:+0100
TZNAME:CET
DTSTART:20241027T010000
END:STANDARD
BEGIN:DAYLIGHT
TZOFFSETFROM:+0100
TZOFFSETTO:+0200
TZNAME:CEST
DTSTART:20250330T010000
END:DAYLIGHT
BEGIN:STANDARD
TZOFFSETFROM:+0200
TZOFFSETTO:+0100
TZNAME:CET
DTSTART:20251026T010000
END:STANDARD
BEGIN:DAYLIGHT
TZOFFSETFROM:+0100
TZOFFSETTO:+0200
TZNAME:CEST
DTSTART:20260329T010000
END:DAYLIGHT
BEGIN:STANDARD
TZOFFSETFROM:+0200
TZOFFSETTO:+0100
TZNAME:CET
DTSTART:20261025T010000
END:STANDARD
END:VTIMEZONE
BEGIN:VEVENT
DTSTART;TZID=Europe/Paris:20250305T150000
DTEND;TZID=Europe/Paris:20250305T163000
DTSTAMP:20260425T160200
CREATED:20250105T082007Z
LAST-MODIFIED:20250208T104510Z
UID:2899-1741186800-1741192200@ohchihuahuacoffeeshop.fr
SUMMARY:Atelier emotional freedom technique (EFT)
DESCRIPTION:Dans cet atelier apprenez avec Nathalie l’EFT\, L’EFT est une approche thérapeutique innovante qui combine la stimulation de points d’acupuncture spécifiques à des affirmations verbales. Elle repose sur l’idée que les émotions négatives sont liées à des blocages dans le système énergétique du corps. En libérant ces blocages\, l’EFT permet de rétablir un équilibre émotionnel. La gestion des émotions est un aspect fondamental du bien-être personnel\, car elles influencent notre santé mentale\, physique et nos relations. L’EFT (Emotional Freedom Technique)\, ou Technique de Libération Émotionnelle\, est une méthode qui aide à libérer les blocages émotionnels en rééquilibrant l’énergie corporelle. Le prix comprend l’atelier et une boisson au choix sur place. Plus de détails sur ses ateliers. (6 personnes maximum).
URL:https://ohchihuahuacoffeeshop.fr/atelier/atelier-emotional-freedom-technique-eft/
LOCATION:Oh Chihuahua Coffee Shop\, place du ventoux\, Venelles\, 13770\, France
CATEGORIES:EFT,Travail intérieur
ATTACH;FMTTYPE=image/jpeg:https://ohchihuahuacoffeeshop.fr/wp-content/uploads/2025/01/8764551_3992450-scaled.jpg
END:VEVENT
BEGIN:VEVENT
DTSTART;TZID=Europe/Paris:20250311T100000
DTEND;TZID=Europe/Paris:20250311T113000
DTSTAMP:20260425T160200
CREATED:20250105T122908Z
LAST-MODIFIED:20250208T132411Z
UID:2910-1741687200-1741692600@ohchihuahuacoffeeshop.fr
SUMMARY:Atelier soyez acteur de votre vie
DESCRIPTION:Cet atelier sur Venelles vous invite à prendre les rênes de votre vie\, à devenir le véritable créateur de votre propre destin. Pendant un atelier\, vous découvrirez avec Nathalie l’importance de formuler des demandes claires et précises. Au lieu d’attendre passivement\, il s’agira de prendre conscience de ce que vous voulez réellement et de l’exprimer de façon à ce que l’univers puisse répondre. Cet atelier est réservé aux personnes de 16 ans et plus. Le prix comprend l’atelier et une boisson au choix sur place. Plus de détails sur ses ateliers. (6 personnes maximum).
URL:https://ohchihuahuacoffeeshop.fr/atelier/atelier-soyez-acteur-de-votre-vie/
LOCATION:Oh Chihuahua Coffee Shop\, place du ventoux\, Venelles\, 13770\, France
CATEGORIES:Acteur de sa vie,Travail intérieur
ATTACH;FMTTYPE=image/jpeg:https://ohchihuahuacoffeeshop.fr/wp-content/uploads/2024/12/young-beautiful-hipster-woman-flower-field-sunset-freed-scaled.jpg
END:VEVENT
BEGIN:VEVENT
DTSTART;TZID=Europe/Paris:20250318T150000
DTEND;TZID=Europe/Paris:20250318T163000
DTSTAMP:20260425T160200
CREATED:20250106T080450Z
LAST-MODIFIED:20250208T105259Z
UID:2945-1742310000-1742315400@ohchihuahuacoffeeshop.fr
SUMMARY:Atelier Ennéagramme outil de communication
DESCRIPTION:Dans cet atelier Nathalie vous fera découvrir « l’ennéagramme ». Un système de classification des personnalités qui distingue neuf types principaux de comportements humains. Chacun de ces types est défini par des motivations profondes et des mécanismes de défense spécifiques. « L’ennéagramme » ne se contente pas de décrire nos traits de caractère\, il permet aussi de comprendre les raisons sous-jacentes de nos comportements et d’identifier des pistes de croissance personnelle. Le prix comprend l’atelier et une boisson au choix sur place. Plus de détails sur ses ateliers. (6 personnes maximum).
URL:https://ohchihuahuacoffeeshop.fr/atelier/atelier-enneagramme-outil-de-communication/
LOCATION:Oh Chihuahua Coffee Shop\, place du ventoux\, Venelles\, 13770\, France
CATEGORIES:Ennéagramme,Travail intérieur
ATTACH;FMTTYPE=image/jpeg:https://ohchihuahuacoffeeshop.fr/wp-content/uploads/2025/01/2150171495.jpg
END:VEVENT
BEGIN:VEVENT
DTSTART;TZID=Europe/Paris:20250327T150000
DTEND;TZID=Europe/Paris:20250327T163000
DTSTAMP:20260425T160200
CREATED:20250106T083358Z
LAST-MODIFIED:20250208T105904Z
UID:2960-1743087600-1743093000@ohchihuahuacoffeeshop.fr
SUMMARY:Atelier Ennéagramme outil de communication
DESCRIPTION:Dans cet atelier Nathalie vous fera découvrir « l’ennéagramme ». Un système de classification des personnalités qui distingue neuf types principaux de comportements humains. Chacun de ces types est défini par des motivations profondes et des mécanismes de défense spécifiques. « L’ennéagramme » ne se contente pas de décrire nos traits de caractère\, il permet aussi de comprendre les raisons sous-jacentes de nos comportements et d’identifier des pistes de croissance personnelle. Le prix comprend l’atelier et une boisson au choix sur place. Plus de détails sur ses ateliers. (6 personnes maximum).
URL:https://ohchihuahuacoffeeshop.fr/atelier/atelier-enneagramme-outil-de-communication-2/
LOCATION:Oh Chihuahua Coffee Shop\, place du ventoux\, Venelles\, 13770\, France
CATEGORIES:Ennéagramme,Travail intérieur
ATTACH;FMTTYPE=image/jpeg:https://ohchihuahuacoffeeshop.fr/wp-content/uploads/2025/01/2150171495.jpg
END:VEVENT
END:VCALENDAR