BEGIN:VCALENDAR
VERSION:2.0
PRODID:-//ohchihuahuacoffeeshop.fr - ECPv6.15.20//NONSGML v1.0//EN
CALSCALE:GREGORIAN
METHOD:PUBLISH
X-ORIGINAL-URL:https://ohchihuahuacoffeeshop.fr
X-WR-CALDESC:Évènements pour ohchihuahuacoffeeshop.fr
REFRESH-INTERVAL;VALUE=DURATION:PT1H
X-Robots-Tag:noindex
X-PUBLISHED-TTL:PT1H
BEGIN:VTIMEZONE
TZID:Europe/Paris
BEGIN:DAYLIGHT
TZOFFSETFROM:+0100
TZOFFSETTO:+0200
TZNAME:CEST
DTSTART:20240331T010000
END:DAYLIGHT
BEGIN:STANDARD
TZOFFSETFROM:+0200
TZOFFSETTO:+0100
TZNAME:CET
DTSTART:20241027T010000
END:STANDARD
BEGIN:DAYLIGHT
TZOFFSETFROM:+0100
TZOFFSETTO:+0200
TZNAME:CEST
DTSTART:20250330T010000
END:DAYLIGHT
BEGIN:STANDARD
TZOFFSETFROM:+0200
TZOFFSETTO:+0100
TZNAME:CET
DTSTART:20251026T010000
END:STANDARD
BEGIN:DAYLIGHT
TZOFFSETFROM:+0100
TZOFFSETTO:+0200
TZNAME:CEST
DTSTART:20260329T010000
END:DAYLIGHT
BEGIN:STANDARD
TZOFFSETFROM:+0200
TZOFFSETTO:+0100
TZNAME:CET
DTSTART:20261025T010000
END:STANDARD
END:VTIMEZONE
BEGIN:VEVENT
DTSTART;TZID=Europe/Paris:20250415T150000
DTEND;TZID=Europe/Paris:20250415T163000
DTSTAMP:20260425T144157
CREATED:20250317T091842Z
LAST-MODIFIED:20250317T091842Z
UID:3247-1744729200-1744734600@ohchihuahuacoffeeshop.fr
SUMMARY:Conférence sur L'Ennéagramme outil de communication
DESCRIPTION:Lors de cette conférence Nathalie vous fera découvrir « l’ennéagramme ». Un système de classification des personnalités qui distingue neuf types principaux de comportements humains. Chacun de ces types est défini par des motivations profondes et des mécanismes de défense spécifiques. « L’ennéagramme » ne se contente pas de décrire nos traits de caractère. Il permet aussi de comprendre les raisons sous-jacentes de nos comportements et d’identifier des pistes de croissance personnelle. Le prix comprend l’atelier et une boisson au choix sur place. Plus de détails sur ses ateliers. (6 personnes maximum).
URL:https://ohchihuahuacoffeeshop.fr/atelier/conference-sur-lenneagramme-outil-de-communication/
LOCATION:Oh Chihuahua Coffee Shop\, place du ventoux\, Venelles\, 13770\, France
CATEGORIES:Conférence,Ennéagramme,Travail intérieur
ATTACH;FMTTYPE=image/jpeg:https://ohchihuahuacoffeeshop.fr/wp-content/uploads/2025/01/2150171495.jpg
END:VEVENT
END:VCALENDAR