BEGIN:VCALENDAR
VERSION:2.0
PRODID:-//ohchihuahuacoffeeshop.fr - ECPv6.15.20//NONSGML v1.0//EN
CALSCALE:GREGORIAN
METHOD:PUBLISH
X-ORIGINAL-URL:https://ohchihuahuacoffeeshop.fr
X-WR-CALDESC:Évènements pour ohchihuahuacoffeeshop.fr
REFRESH-INTERVAL;VALUE=DURATION:PT1H
X-Robots-Tag:noindex
X-PUBLISHED-TTL:PT1H
BEGIN:VTIMEZONE
TZID:UTC
BEGIN:STANDARD
TZOFFSETFROM:+0000
TZOFFSETTO:+0000
TZNAME:UTC
DTSTART:20250101T000000
END:STANDARD
END:VTIMEZONE
BEGIN:VEVENT
DTSTART;TZID=UTC:20260124T103000
DTEND;TZID=UTC:20260124T140000
DTSTAMP:20260425T010929
CREATED:20251208T145948Z
LAST-MODIFIED:20260109T153635Z
UID:4040-1769250600-1769263200@ohchihuahuacoffeeshop.fr
SUMMARY:"LE DÉCLIC" Atelier d'auto coaching + Repas
DESCRIPTION:Atelier d’Auto-Coaching + Repas Convivial\nDevenez autonome dans votre développement personnel ! \nVous souhaitez clarifier vos objectifs\, reprendre confiance en vos choix et avancer avec plus de sérénité ?Cet atelier\, animé par un coach professionnel Jéremy Guillaume. Il vous donnera les bases de l’auto-coaching pour devenir acteur de votre propre évolution. \n\n🎯 Ce que vous allez apprendre\n\n\nLes principes essentiels de l’auto-coaching \n\n\nL’identification de vos forces\, motivations et freins \n\n\nLa méthode pour poser des objectifs réalistes et motivants \n\n\nDes outils pratiques à utiliser au quotidien \n\n\nLa création de votre plan d’action personnalisé \n\n\n\n👥 Pour qui ?\nPour toute personne souhaitant évoluer\, mieux se connaître\, gagner en confiance ou se recentrer dans la vie personnelle comme professionnelle. \n\n🍽️ Atelier + Repas inclus\nLa séance se clôturera par un repas convivial\, idéal pour échanger avec le coach et les participants dans une ambiance chaleureuse. \n\n📍 Informations pratiques\n\n\nLieu : Coffee shop OH CHIHUAHUA \n\n\nDate / horaire : Le samedi 24 janvier de 10h30 à 14h00. \n\n\nTarif : 39 € (atelier + repas) \n\n\nNombre de places limitées à 10 pour garantir un accompagnement de qualité. \n\n\n\n✨ Pourquoi participer ?\nParce que vous êtes la personne la mieux placée pour vous guider !Avec les bons outils\, vous pouvez devenir votre propre coach et avancer vers une vie plus alignée et équilibrée.
URL:https://ohchihuahuacoffeeshop.fr/atelier/le-declic-atelier-dauto-coaching-repas/
LOCATION:Oh Chihuahua Coffee Shop\, place du ventoux\, Venelles\, 13770\, France
CATEGORIES:Brunch,Travail intérieur
ATTACH;FMTTYPE=image/jpeg:https://ohchihuahuacoffeeshop.fr/wp-content/uploads/2025/12/visuel-atelier-le-declic.jpg
END:VEVENT
END:VCALENDAR