BEGIN:VCALENDAR
VERSION:2.0
PRODID:-//ohchihuahuacoffeeshop.fr - ECPv6.15.20//NONSGML v1.0//EN
CALSCALE:GREGORIAN
METHOD:PUBLISH
X-WR-CALNAME:ohchihuahuacoffeeshop.fr
X-ORIGINAL-URL:https://ohchihuahuacoffeeshop.fr
X-WR-CALDESC:Évènements pour ohchihuahuacoffeeshop.fr
REFRESH-INTERVAL;VALUE=DURATION:PT1H
X-Robots-Tag:noindex
X-PUBLISHED-TTL:PT1H
BEGIN:VTIMEZONE
TZID:UTC
BEGIN:STANDARD
TZOFFSETFROM:+0000
TZOFFSETTO:+0000
TZNAME:UTC
DTSTART:20250101T000000
END:STANDARD
END:VTIMEZONE
BEGIN:VEVENT
DTSTART;TZID=UTC:20260425T100000
DTEND;TZID=UTC:20260425T113000
DTSTAMP:20260424T141024
CREATED:20260324T085943Z
LAST-MODIFIED:20260324T090041Z
UID:4378-1777111200-1777116600@ohchihuahuacoffeeshop.fr
SUMMARY:Atelier deck "Carte POKEMON "
DESCRIPTION:🚀 Atelier Deck Pokémon (6–8 ans) \nPrêt à créer ton propre deck de combat ? ⚡ \nTon enfant a des cartes Pokémon qui dorment dans un tiroir ? 🃏\nEt si on apprenait à vraiment jouer avec ? 🎮✨ \n👉 Viens avec tes cartes\, et construisons ensemble TON deck de combat ! \nAu programme : \n🃏 Apprendre à composer un deck équilibré\n🔋 Comprendre le rôle des énergies et des cartes\n🧠 Jouer plus malin et faire les bons choix\n⚔️ Tester son deck en conditions réelles\n🏆 Relever des petits défis et s’amuser ! \n👉 Si certaines cartes (énergies ou autres) manquent\, nous les fournissons pour jouer \nUn atelier très ludique\, pensé pour apprendre tout en s’amusant 🤝🌟\nUne belle façon de redonner vie à ses cartes Pokémon et de devenir un vrai dresseur ! 🔥 \n🎯 Objectif : gagner en autonomie\, en confiance… et prendre plaisir à jouer \n🎒 Matériel fourni : deck de jeu\, tapis\, pièces de dégâts\n🎁 Cartes récompenses à la clé pour les joueurs en herbe \n👉 Atelier réservé aux enfants ayant déjà une première expérience du jeu \nAtelier indépendant\, non affilié à The Pokémon Company
URL:https://ohchihuahuacoffeeshop.fr/atelier/atelier-deck-carte-pokemon/
LOCATION:Oh Chihuahua Coffee Shop\, place du ventoux\, Venelles\, 13770\, France
CATEGORIES:Atelier enfants,Pokemon
ATTACH;FMTTYPE=image/jpeg:https://ohchihuahuacoffeeshop.fr/wp-content/uploads/2026/03/deck-okemon.jpg
END:VEVENT
BEGIN:VEVENT
DTSTART;TZID=UTC:20260509T100000
DTEND;TZID=UTC:20260509T110000
DTSTAMP:20260424T141024
CREATED:20260313T133221Z
LAST-MODIFIED:20260313T133221Z
UID:4367-1778320800-1778324400@ohchihuahuacoffeeshop.fr
SUMMARY:Atelier "Magie scientifique" 6-8 ans
DESCRIPTION:🪄✨ Atelier “Magie Scientifique” – Magiciens en herbe ✨🪄 \nEntrez dans un univers où la science se transforme en magie 🧪✨ et où l’émerveillement est garanti 🤩. Cet atelier pas comme les autres invite vos enfants à expérimenter 🧫\, manipuler 🖐️ et s’étonner devant des phénomènes surprenants… comme de vrais petits magiciens scientifiques 🪄👦👧 ! \nAu fil de l’expérience\, ils réaliseront 4 expériences étonnantes 💥\, observeront des réactions inattendues 🤯. Chaque étape est pensée pour stimuler la curiosité 🧐\, développer l’imagination 🎨 et faire briller des yeux émerveillés ✨👀. \nUn moment ludique 🎉\, convivial 🤝 et magique 🌟\, à vivre en petit groupe pour une immersion totale et des souvenirs inoubliables 📸💌. \n🕰 Déroulé \nDurée de l’atelier : 1h ⏰ \n\n\nAccueil et introduction : 10 min 👋 \n\n\n4 expériences magiques : 45 min 💥🔬 \n\n\nPhoto et petit mot “Magicien en herbe” : 5 min 📸🪄 \n\n\nℹ️ Infos pratiques \n\n\nÂge : 6 à 8 ans 👶 \n\n\nTarif : 16 € 💶 (1 sirop 🥤 inclus) \n\n\nPlaces disponibles : 8 enfants maximum ⚡ \n\n\nRéservation obligatoire 📝 \n\n\nUne invitation à s’émerveiller ✨\, à manipuler 🧫\, à rire 😂 et à repartir avec la magie plein les yeux 🪄👀💫 !
URL:https://ohchihuahuacoffeeshop.fr/atelier/atelier-magie-scientifique-6-8-ans/
LOCATION:Oh Chihuahua Coffee Shop\, place du ventoux\, Venelles\, 13770\, France
CATEGORIES:Atelier enfants
ATTACH;FMTTYPE=image/jpeg:https://ohchihuahuacoffeeshop.fr/wp-content/uploads/2026/03/atelier-magie.jpg
END:VEVENT
BEGIN:VEVENT
DTSTART;TZID=UTC:20260516T100000
DTEND;TZID=UTC:20260516T123000
DTSTAMP:20260424T141024
CREATED:20260314T142808Z
LAST-MODIFIED:20260314T142808Z
UID:4371-1778925600-1778934600@ohchihuahuacoffeeshop.fr
SUMMARY:"PACK DRESSEUR" Cartes POKEMON
DESCRIPTION:🎴⚡ Atelier Pokémon – Pack Dresseur ! ⚡🎴 \nTon enfant adore les cartes Pokémon et rêve de devenir un vrai dresseur stratégique ? 🧠✨\nNous proposons un atelier spécial Pokémon pour apprendre à mieux jouer\, construire son deck et progresser tout en s’amusant ! \n📅 Samedi 16 mai\n🕘 De 10h à 12h30 (durée 2h30)\n👦👧 Pour les enfants de 7 à 9 ans\n👥 6 places seulement\n💶 36 € \nAu programme :\n🔹 Rappel des règles du jeu – Niveau 1\nOn revoit ensemble les bases pour bien comprendre le fonctionnement du jeu. \n🔹 Stratégies de jeu – Niveau 2\nLes enfants apprendront à réfléchir comme de vrais dresseurs : gérer leurs énergies\, préparer leurs attaques et anticiper les actions de l’adversaire ⚡ \n🔹 Création de ton deck personnalisé\nChaque enfant apporte ses propres cartes et nous composerons ensemble un deck de jeu efficace 🃏\nS’il manque des cartes Énergie ou certaines cartes de base\, nous pourrons bien sûr les fournir ou les prêter. \n🔹 Combat final !\nPour terminer l’atelier\, les enfants testeront leur nouveau deck lors d’une partie 🏆 \nMatériel fourni sur place\n✔️ Cartes de base si besoin\n✔️ Tapis de jeu\n✔️ Dés de dégâts\n✔️ Pièces Pokémon \nConditions pour participer\n📖 Savoir lire correctement\nOU\n🎴 Avoir déjà joué aux cartes Pokémon et connaître les bases du jeu. \n✨ Un atelier ludique pour apprendre\, partager sa passion et repartir avec un deck prêt à combattre ! \n⚠️ Seulement 6 places disponibles \n👉 Pensez à réserver rapidement sur la billetterie !
URL:https://ohchihuahuacoffeeshop.fr/atelier/pack-dresseur-cartes-pokemon/
LOCATION:Oh Chihuahua Coffee Shop\, place du ventoux\, Venelles\, 13770\, France
CATEGORIES:Atelier enfants,Pokemon
ATTACH;FMTTYPE=image/jpeg:https://ohchihuahuacoffeeshop.fr/wp-content/uploads/2026/03/pack-dresseurs.jpg
END:VEVENT
BEGIN:VEVENT
DTSTART;TZID=UTC:20260530T103000
DTEND;TZID=UTC:20260530T140000
DTSTAMP:20260424T141024
CREATED:20260424T063813Z
LAST-MODIFIED:20260424T063813Z
UID:4394-1780137000-1780149600@ohchihuahuacoffeeshop.fr
SUMMARY:«Atelier Cuisine &  Brunch Rouge & Rose» Fête des mères
DESCRIPTION:🌸 Atelier Cuisine & Brunch Rouge & Rose – Spécial Fête des Mères 🌸 \nPlongez dans un moment doux\, gourmand et plein de tendresse à l’occasion de la Fête des Mères\, au cœur de l’Atelier CULINARION à Aix-en-Provence. \nPendant cet atelier de 1h30\, vous apprendrez à réaliser un menu créatif\, coloré et de saison : des recettes originales où fruits rouges\, betterave et nuances rosées seront à l’honneur. Guidé pas à pas\, vous confectionnerez des préparations aussi belles que savoureuses\, idéales pour surprendre et se faire plaisir. \nAu programme :\n🥞 Pancakes à la betterave\n🍓 Cheesecake sans cuisson aux fruits rouges\n🥖 Tartines ricotta & légumes roses\n🍧 Verrine fraise & granola \nVous réaliserez également une confiture express que vous pourrez emporter chez vous pour prolonger le plaisir. \nUne fois les préparations terminées\, place à un moment de partage autour d’un brunch gourmand. Nous dégusterons ensemble les réalisations de l’atelier\, accompagnées d’un pink latté et d’un rooibos à l’orange\, dans une ambiance chaleureuse et conviviale. \nUn véritable instant hors du temps\, à vivre en solo ou à partager en duo mère-enfant 💕 \n🕰 Déroulé \nAtelier : 10h30 → 12h00\nPuis dégustation du brunch jusqu’à 14h \n🧂 À emporter \nUn pot de confiture maison réalisée pendant l’atelier \n📍 Lieu \nAtelier CULINARION – Aix-en-Provence \nℹ️ Infos pratiques \nTarif :\n• 75 € la place individuelle\n• 140 € le duo (Mère & Fille ou Mère & Fils) \nDurée totale : 10h30 – 14h \nPlaces limitées \nUn moment gourmand\, créatif et plein d’amour pour célébrer les mamans 💗 \nSi vous êtes allergiques à certains produits\, merci de nous le préciser lors de votre inscription.
URL:https://ohchihuahuacoffeeshop.fr/atelier/atelier-cuisine-brunch-rouge-rose-fete-des-meres/
LOCATION:L’atelier Culinarion\, 52\, rue des Cordeliers\, Aix en provence\, 13100\, France
CATEGORIES:Brunch
ATTACH;FMTTYPE=image/jpeg:https://ohchihuahuacoffeeshop.fr/wp-content/uploads/2026/04/fete-des-meres-brunch.jpg
END:VEVENT
END:VCALENDAR