BEGIN:VCALENDAR
VERSION:2.0
PRODID:-//ohchihuahuacoffeeshop.fr - ECPv6.15.20//NONSGML v1.0//EN
CALSCALE:GREGORIAN
METHOD:PUBLISH
X-WR-CALNAME:ohchihuahuacoffeeshop.fr
X-ORIGINAL-URL:https://ohchihuahuacoffeeshop.fr
X-WR-CALDESC:Évènements pour ohchihuahuacoffeeshop.fr
REFRESH-INTERVAL;VALUE=DURATION:PT1H
X-Robots-Tag:noindex
X-PUBLISHED-TTL:PT1H
BEGIN:VTIMEZONE
TZID:UTC
BEGIN:STANDARD
TZOFFSETFROM:+0000
TZOFFSETTO:+0000
TZNAME:UTC
DTSTART:20240101T000000
END:STANDARD
END:VTIMEZONE
BEGIN:VEVENT
DTSTART;TZID=UTC:20250913T143000
DTEND;TZID=UTC:20250913T160000
DTSTAMP:20260425T024233
CREATED:20250801T083055Z
LAST-MODIFIED:20250909T131414Z
UID:3802-1757773800-1757779200@ohchihuahuacoffeeshop.fr
SUMMARY:Atelier LEGO thème "Ninja Go"
DESCRIPTION:Atelier LEGO Ninja Go pour enfants de 5 à 8 ans \nPlongez votre enfant dans l’univers fascinant des ninjas avec notre atelier LEGO sur le thème de ninja go\, spécialement conçu pour les enfants de 5 à 8 ans !  Olivier guidera les enfants pour former des équipe et créer un vrai esprit de groupe. Au programme : créativité\, construction et aventures passionnantes. Les petits bâtisseurs pourront imaginer leur scènes d’actions\, tout en développant leur motricité et leur imagination. Une activité telle une madeleine de Proust pour les grands. En avant les kits de construction sur le thème Ninja Go la puissance des éléments !!! \n🧱 Activité ludique et éducative👧👦 Pour les enfants de 5 à 8 ans \nRéservez dès maintenant une place pour cet atelier original et amusant\, idéal pour les passionnés de LEGO et de ninja go ! Le prix comprend l’atelier le matériel et un gouter fourni. L’atelier sera maintenu à partir de 3 inscriptions\, nous vous tiendrons informé.
URL:https://ohchihuahuacoffeeshop.fr/atelier/atelier-lego-theme-ninja-go/
CATEGORIES:Atelier enfants
ATTACH;FMTTYPE=image/jpeg:https://ohchihuahuacoffeeshop.fr/wp-content/uploads/2025/08/lego-ninja.jpg
END:VEVENT
BEGIN:VEVENT
DTSTART;TZID=UTC:20250920T143000
DTEND;TZID=UTC:20250920T160000
DTSTAMP:20260425T024233
CREATED:20250801T093337Z
LAST-MODIFIED:20250918T095349Z
UID:3811-1758378600-1758384000@ohchihuahuacoffeeshop.fr
SUMMARY:Atelier enfants "A la découverte du monde marin"
DESCRIPTION:🌊 Atelier Enfant : Les animaux marins de la Méditerranée\nDécouverte de la biodiversité marine pour les 4-7 ans \nPartez à la rencontre des habitants des fonds marins lors d’un atelier ludique et éducatif dédié à la faune de la mer Méditerranée 🐚🐠 \n🔎 Au programme :• Observation d’une maquette des fonds marins• Découverte de véritables coraux et coquillages• Jeux pédagogiques : « Qui vit où ? » & « Qui mange quoi ? »• Atelier créatif : moulage d’un animal marin au choix👉 Chaque enfant repart avec sa création ! \nUne plongée fascinante pour sensibiliser les enfants à la richesse et la fragilité du monde marin. \n🧒👧 Pour les enfants de 5 à 8 ans🎨 Activité éducative + création à emporter\, gouter inclus. \nRéservez dès maintenant une place pour cet atelier original et ludique\, idéal pour les passionnés de nature et d’océan ! Le prix comprend l’atelier le matériel et un gouter fourni. L’atelier sera maintenu à partir de 3 inscriptions\, nous vous tiendrons informé.
URL:https://ohchihuahuacoffeeshop.fr/atelier/atelier-enfants-a-la-decouverte-du-monde-marin/
LOCATION:Oh Chihuahua Coffee Shop\, place du ventoux\, Venelles\, 13770\, France
CATEGORIES:Atelier enfants
ATTACH;FMTTYPE=image/jpeg:https://ohchihuahuacoffeeshop.fr/wp-content/uploads/2025/08/atelier-ocean.jpg
END:VEVENT
BEGIN:VEVENT
DTSTART;TZID=UTC:20250927T163000
DTEND;TZID=UTC:20250927T180000
DTSTAMP:20260425T024233
CREATED:20250623T084342Z
LAST-MODIFIED:20250623T090025Z
UID:3616-1758990600-1758996000@ohchihuahuacoffeeshop.fr
SUMMARY:Atelier APÉRO BRODERIE
DESCRIPTION:Atelier Apéro Broderie – Je peux pas j’ai broderie !!! Un moment créatif entre copines ! \nEnvie d’un moment détente et créatif entre amies ? Venez découvrir la broderie lors d’un atelier convivial animé par L’Atelier des Envies. Aurélie vous accompagnera pas à pas pour personnaliser votre pièce et créer une broderie unique. Apportez une veste\, un sac ou tout autre accessoire à customiser… et repartez avec une création qui vous ressemble !  (Atelier pour adulte ou ado à partir de 16 ans la boissons serra adaptée) 6 places maximum. \n🧵 Tout niveau bienvenu🍷 L’atelier comprend un verre au choix (boisson sans alcool\, bière\, vin rosé\, rouge ou blanc) et une petite assiette apéritive.✨ Un joli moment de partage et de création vous attend ! \nL’atelier aura lieu à partir de 3 inscrits minimum nous vous tiendrons au courant par mail\, le cas échéant nous vous rembourserons merci de votre compréhension.
URL:https://ohchihuahuacoffeeshop.fr/atelier/atelier-apero-broderie/
LOCATION:Oh Chihuahua Coffee Shop\, place du ventoux\, Venelles\, 13770\, France
CATEGORIES:Broderie
ATTACH;FMTTYPE=image/jpeg:https://ohchihuahuacoffeeshop.fr/wp-content/uploads/2025/06/visuel-atelier-broderie.jpg
END:VEVENT
END:VCALENDAR