BEGIN:VCALENDAR
VERSION:2.0
PRODID:-//ohchihuahuacoffeeshop.fr - ECPv6.15.20//NONSGML v1.0//EN
CALSCALE:GREGORIAN
METHOD:PUBLISH
X-ORIGINAL-URL:https://ohchihuahuacoffeeshop.fr
X-WR-CALDESC:Évènements pour ohchihuahuacoffeeshop.fr
REFRESH-INTERVAL;VALUE=DURATION:PT1H
X-Robots-Tag:noindex
X-PUBLISHED-TTL:PT1H
BEGIN:VTIMEZONE
TZID:UTC
BEGIN:STANDARD
TZOFFSETFROM:+0000
TZOFFSETTO:+0000
TZNAME:UTC
DTSTART:20240101T000000
END:STANDARD
END:VTIMEZONE
BEGIN:VEVENT
DTSTART;TZID=UTC:20251006T110000
DTEND;TZID=UTC:20251006T123000
DTSTAMP:20260425T005719
CREATED:20250715T083054Z
LAST-MODIFIED:20250715T095425Z
UID:3733-1759748400-1759753800@ohchihuahuacoffeeshop.fr
SUMMARY:Pumpkin week Atelier " Fabrication koso et baume à lèvre"
DESCRIPTION:Atelier « Fabrication de Koso & Baume à Lèvres Naturel » \nOffrez-vous une parenthèse bien-être en découvrant deux indispensables de la saison : le koso\, une boisson fermentée aux multiples bienfaits\, et un baume à lèvres nourrissant 100 % naturel\, fait maison. \nLors de cet atelier\, Natercia vous accompagnera pas à pas dans la fabrication de votre propre baume soin\, sans produits chimiques\, idéal pour affronter les premiers froids. Vous apprendrez également la méthode artisanale de préparation des kosos\, ces boissons traditionnelles aux vertus digestives et revitalisantes. \n🌿 Au programme : \nDécouverte des bienfaits du koso et initiation à sa préparation\, création de votre baume à lèvres personnalisé\, moment convivial dans une ambiance chaleureuse et cosy \nLes frais d’inscription couvrent uniquement le matériel utilisé. Repartez avec vos créations\, de nouvelles connaissances\, et un vrai moment de détente. \n🎨 Une manière ludique et créative de prendre soin de soi… naturellement. Atelier pour adulte\, nombre de places limité à 6.
URL:https://ohchihuahuacoffeeshop.fr/atelier/atelier-fabrication-koso-et-baume-a-levre/
LOCATION:Oh Chihuahua Coffee Shop\, place du ventoux\, Venelles\, 13770\, France
CATEGORIES:Pumpkin week
ATTACH;FMTTYPE=image/jpeg:https://ohchihuahuacoffeeshop.fr/wp-content/uploads/2025/07/atelier-natercia.jpg
END:VEVENT
BEGIN:VEVENT
DTSTART;TZID=UTC:20251006T153000
DTEND;TZID=UTC:20251006T170000
DTSTAMP:20260425T005719
CREATED:20250715T084129Z
LAST-MODIFIED:20250715T095357Z
UID:3738-1759764600-1759770000@ohchihuahuacoffeeshop.fr
SUMMARY:Pumpkin week Atelier "Tissage Mexicain"
DESCRIPTION:Atelier Tissage Mexicain – Un moment créatif avec Domine \nEnvie d’une pause inspirante et colorée ? Rejoignez Domine pour un atelier de tissage mexicain\, une pratique artisanale riche de sens et de tradition. Que vous soyez débutant·e ou déjà manuel·le\, cet atelier est une belle occasion de découvrir une technique accessible et relaxante. \nAu fil des échanges et des couleurs\, vous apprendrez à manipuler les fils\, choisir vos harmonies\, et créer votre propre motif. Laissez-vous guider par votre intuition\, mélangez vos teintes préférées\, et donnez naissance à une pièce unique\, à votre image. \n🌿 Au programme : \nIntroduction au tissage mexicain et à ses origines\, apprentissage des techniques de base\, réalisation d’un tissage personnalisé\, moment convivial et créatif en petit groupe \nLes frais d’inscription couvrent uniquement le matériel utilisé. Repartez avec vos créations\, de nouvelles connaissances\, et un vrai moment de détente. Tout le matériel est fourni. Repartez avec votre création et de nouvelles compétences ! \nUn moment chaleureux\, guidé par la passion et la douceur de Domine\, à ne pas manquer. Atelier pour adulte\, nombre de places limité à 6.
URL:https://ohchihuahuacoffeeshop.fr/atelier/atelier-tissage-mexicain/
LOCATION:Oh Chihuahua Coffee Shop\, place du ventoux\, Venelles\, 13770\, France
CATEGORIES:Pumpkin week
ATTACH;FMTTYPE=image/jpeg:https://ohchihuahuacoffeeshop.fr/wp-content/uploads/2025/07/atelier-tissage.jpg
END:VEVENT
BEGIN:VEVENT
DTSTART;TZID=UTC:20251007T100000
DTEND;TZID=UTC:20251007T123000
DTSTAMP:20260425T005719
CREATED:20250715T085059Z
LAST-MODIFIED:20250715T095333Z
UID:3742-1759831200-1759840200@ohchihuahuacoffeeshop.fr
SUMMARY:Pumpkin week Atelier "Micro macramé"
DESCRIPTION:Atelier Micro-Macramé avec Funny Witch – Créativité\, finesse et détente \nVenez découvrir l’art du micro-macramé lors d’un atelier tout en douceur\, animé par Funny Witch\, une véritable passionnée de cette technique artisanale aussi délicate que captivante. \nLe micro-macramé\, c’est l’alliance entre patience\, précision et créativité. À travers une série de nœuds minutieux\, vous apprendrez à créer de petites merveilles\, du bijou raffiné à l’accessoire décoratif. Funny Witch vous accompagnera pas à pas pour que vous puissiez explorer cet univers à votre rythme\, même si vous êtes débutant·e. \nPrenez le temps de ralentir\, de créer avec vos mains\, et de vous offrir une pause hors du temps dans une ambiance bienveillante et conviviale. \n🧵 Au programme : \nInitiation aux techniques de base du micro-macramé\, réalisation d’une création personnalisée (bijou ou objet décoratif)\, astuces\, conseils et accompagnement individualisé\, un moment de calme\, de concentration et de plaisir créatif. \n✨ Tout le matériel est fourni. Vous repartez avec votre création… et probablement quelques admirateurs ! Les frais d’inscription couvrent uniquement le matériel utilisé. \n👥 Atelier en petit groupe – Adultes uniquementAucun prérequis nécessaire\, juste l’envie de faire quelque chose de beau avec vos mains. Atelier pour adulte\, nombre de places limité à 5.
URL:https://ohchihuahuacoffeeshop.fr/atelier/atelier-micro-macrame/
LOCATION:Oh Chihuahua Coffee Shop\, place du ventoux\, Venelles\, 13770\, France
CATEGORIES:Pumpkin week
ATTACH;FMTTYPE=image/jpeg:https://ohchihuahuacoffeeshop.fr/wp-content/uploads/2025/07/atelier-micro-macrame.jpg
END:VEVENT
BEGIN:VEVENT
DTSTART;TZID=UTC:20251007T153000
DTEND;TZID=UTC:20251007T170000
DTSTAMP:20260425T005719
CREATED:20250715T090404Z
LAST-MODIFIED:20250930T090749Z
UID:3746-1759851000-1759856400@ohchihuahuacoffeeshop.fr
SUMMARY:Pumpkin week Atelier "Magie blanche"
DESCRIPTION:Atelier Magie Blanche avec Funny Witch – Un voyage entre intuition\, nature et mystère \nEt si vous faisiez un pas de côté… pour entrer dans un monde subtil\, chargé d’énergie positive et de sagesse ancienne ? Funny Witch vous invite à découvrir la magie blanche\, une pratique douce et bienveillante\, ancrée dans la nature et l’intention. \nAu cours de cet atelier\, vous apprendrez à composer des potions énergétiques à base d’éléments naturels\, à manier des formules et à créer vos propres fioles magiques\, pensées pour accompagner vos envies\, vos besoins ou vos états d’âme. \n🌿 Un moment suspendu pour : \nVous initier aux bases de la magie blanche\, créer vos fioles magiques et apprendre leurs symboliques\, explorer l’usage des plantes\, cristaux\, intentions et rituels\, vous recentrer et faire le plein d’énergie positive \nOuvrez votre esprit\, laissez-vous guider\, et embarquez pour un voyage sensoriel et intuitif dont vous ne ressortirez pas tout à fait le même. Bienveillance\, créativité et bonne humeur garanties. Les frais d’inscription couvrent uniquement le matériel utilisé. \n✨ Atelier pour les adultesMatériel fourni – Repartez avec vos créations magiques et un nouvel éclairage sur le pouvoir de l’intention. Atelier pour adulte\, nombre de places limité à 6.
URL:https://ohchihuahuacoffeeshop.fr/atelier/atelier-magie-blanche/
LOCATION:Oh Chihuahua Coffee Shop\, place du ventoux\, Venelles\, 13770\, France
CATEGORIES:Pumpkin week
ATTACH;FMTTYPE=image/jpeg:https://ohchihuahuacoffeeshop.fr/wp-content/uploads/2025/07/atelier-magie-blanche.jpg
END:VEVENT
BEGIN:VEVENT
DTSTART;TZID=UTC:20251007T173000
DTEND;TZID=UTC:20251007T180000
DTSTAMP:20260425T005719
CREATED:20250715T100728Z
LAST-MODIFIED:20250715T105848Z
UID:3765-1759858200-1759860000@ohchihuahuacoffeeshop.fr
SUMMARY:Pumpkin week Atelier "Histoire contée"
DESCRIPTION:Atelier Histoire Contée – Un voyage magique pour petits et grands✨ Par Funny Witch ✨ \nIl était une fois… un atelier pas comme les autres\, où les mots tissent des mondes enchantés\, peuplés de créatures fantastiques\, de mystères doux et de magie bienveillante. Funny Witch\, conteuse passionnée\, invite les enfants à partir à l’aventure à travers des histoires captivantes\, pleines d’imaginaire et de merveilles. \nInstallés confortablement\, les petits (et les plus grands !) se laissent emporter par la voix et les récits\, dans une parenthèse enchantée propice à l’émerveillement et à la rêverie. \n📚 Au programme : \nLecture contée d’histoires magiques et mystérieuses\, immersion dans des univers poétiques et fantastiques\, un moment de calme\, de partage et d’imagination. Petites surprises contées à la manière de Funny Witch… \n🌟 Informations pratiques : \nPour les enfants à partir de 4 ans (les parents peuvent rester)\, ambiance douce et immersive\, atelier pensé pour émerveiller tous les âges. Durée : environ 30 min. Tarif 1 euro symbolique. \nUne belle occasion de ralentir\, d’écouter\, et de laisser la magie des mots opérer… 🕯️📖
URL:https://ohchihuahuacoffeeshop.fr/atelier/pumpkin-week-atelier-histoire-contee/
LOCATION:Oh Chihuahua Coffee Shop\, place du ventoux\, Venelles\, 13770\, France
CATEGORIES:Atelier enfants,Pumpkin week
ATTACH;FMTTYPE=image/jpeg:https://ohchihuahuacoffeeshop.fr/wp-content/uploads/2025/07/atelier-conte.jpg
END:VEVENT
BEGIN:VEVENT
DTSTART;TZID=UTC:20251009T110000
DTEND;TZID=UTC:20251009T120000
DTSTAMP:20260425T005719
CREATED:20250715T093916Z
LAST-MODIFIED:20250715T095254Z
UID:3750-1760007600-1760011200@ohchihuahuacoffeeshop.fr
SUMMARY:Pumpkin week Atelier "Broderie automnale"
DESCRIPTION:Atelier Broderie automnale avec L’atelier des envies – détente\, couleur\, rire\, créativité \n🍂 L’automne est là\, avec ses couleurs douces et ses envies de cocooning… Et si vous en profitiez pour exprimer votre créativité à travers la broderie ? Lors de cet atelier\, vous serez guidé·e par L’Atelier des Envies pour personnaliser une pièce de votre choix avec des motifs inspirés de la saison. \nUn t-shirt\, un pantalon\, une veste ou un sac en tissu : apportez le support textile que vous souhaitez égayer\, et apprenez à le sublimer avec fils\, aiguilles et imagination. Aucune expérience n’est nécessaire – juste l’envie de créer dans une ambiance douce et conviviale. \n🧵 Au programme : Initiation ou perfectionnement à la broderie à la main\, création de motifs automnaux (feuilles\, champignons\, petits mots doux…)\, accompagnement personnalisé pour broder votre propre pièce\, un moment créatif et réconfortant autour du fil et des saisons \n✨ Atelier pour les adultesMatériel fourni – Repartez avec votre création. Les frais d’inscription couvrent uniquement le matériel utilisé. Atelier pour adulte\, nombre de places limité à 6. \nInstallez-vous\, laissez la magie du fil opérer\, et offrez-vous un moment plaisir à l’abri des feuilles qui tombent 🍂
URL:https://ohchihuahuacoffeeshop.fr/atelier/atelier-broderie-automnale/
LOCATION:Oh Chihuahua Coffee Shop\, place du ventoux\, Venelles\, 13770\, France
CATEGORIES:Pumpkin week
ATTACH;FMTTYPE=image/jpeg:https://ohchihuahuacoffeeshop.fr/wp-content/uploads/2025/07/broderie-automnales.jpg
END:VEVENT
BEGIN:VEVENT
DTSTART;TZID=UTC:20251009T170000
DTEND;TZID=UTC:20251009T180000
DTSTAMP:20260425T005719
CREATED:20250715T095134Z
LAST-MODIFIED:20250715T105821Z
UID:3756-1760029200-1760032800@ohchihuahuacoffeeshop.fr
SUMMARY:Pumpkin week Atelier "Broderie automnale" Duo Parent-enfant
DESCRIPTION:Atelier Broderie automnale avec L’atelier des envies – détente\, couleur\, rire\, créativité \n🍂 L’automne est là\, avec ses couleurs douces et ses envies de cocooning… Et si vous en profitiez pour exprimer votre créativité à travers la broderie ? Lors de cet atelier\, vous serez guidé·e par L’Atelier des Envies pour personnaliser une pièce de votre choix avec des motifs inspirés de la saison. \nUn t-shirt\, un pantalon\, une veste ou un sac en tissu : apportez le support textile que vous souhaitez égayer\, et apprenez à le sublimer avec fils\, aiguilles et imagination. Aucune expérience n’est nécessaire – juste l’envie de créer dans une ambiance douce et conviviale. \n🧵 Au programme : Initiation ou perfectionnement à la broderie à la main\, création de motifs automnaux (feuilles\, champignons\, petits mots doux…)\, accompagnement personnalisé pour broder votre propre pièce\, un moment créatif et réconfortant autour du fil et des saisons \n✨ Atelier pour les binômes Parent-enfant ( à partir de 7 ans)Matériel fourni – Repartez avec votre création. Les frais d’inscription couvrent uniquement le matériel utilisé. Nombre de places limité à 4 binômes. \nInstallez-vous\, laissez la magie du fil opérer\, et offrez-vous un moment plaisir à l’abri des feuilles qui tombent 🍂
URL:https://ohchihuahuacoffeeshop.fr/atelier/atelier-broderie-automnale-duo-parent-enfant/
LOCATION:Oh Chihuahua Coffee Shop\, place du ventoux\, Venelles\, 13770\, France
CATEGORIES:Atelier enfants,Pumpkin week
ATTACH;FMTTYPE=image/jpeg:https://ohchihuahuacoffeeshop.fr/wp-content/uploads/2025/07/broderie-automnales.jpg
END:VEVENT
BEGIN:VEVENT
DTSTART;TZID=UTC:20251010T110000
DTEND;TZID=UTC:20251010T120000
DTSTAMP:20260425T005719
CREATED:20250715T104332Z
LAST-MODIFIED:20250715T104409Z
UID:3769-1760094000-1760097600@ohchihuahuacoffeeshop.fr
SUMMARY:Pumpkin week Atelier "Composition d'un thé d'automne"
DESCRIPTION:Atelier « Compose ton Thé d’Automne » – Une parenthèse sensorielle aux couleurs de la saison🍁 Animé par Nature Celtique 🍵 \nL’automne s’installe… et avec lui\, les envies de douceur\, de chaleur et de parfums réconfortants. Nature Celtique vous invite à un atelier unique de composition de thé\, inspiré par les richesses de la saison. \nÀ partir d’ingrédients naturels et de saison\, vous apprendrez à créer votre propre recette de thé ou d’infusion. Une belle occasion d’explorer les plantes\, fleurs\, épices et fruits séchés\, de sentir\, d’assembler\, et de vous laisser guider par vos envies pour créer une composition à votre image. \n🍂 Au programme : Découverte des plantes et ingrédients de saison\, création d’un mélange de thé ou infusion automnale\, conseils sur les bienfaits\, les dosages et les accords\, un moment de partage\, de détente et de reconnexion aux sens. \n✨ Repartez avec votre propre recette maison… à déguster au coin du feu ou à offrir.Pensez à apporter un bocal en verre (ou autre contenant hermétique) pour emporter votre création. \n🌿 Informations pratiques : Atelier pour adultes\, tous les ingrédients sont fournis\, le tarif couvre uniquement le matériel utilisé. Places limitées à 6 pour un moment convivial et personnalisé \nUn atelier aux parfums de sous-bois\, de cannelle et de feuilles dorées… pour célébrer l’automne autrement.
URL:https://ohchihuahuacoffeeshop.fr/atelier/pumpkin-week-atelier-composition-dun-the-dautomne/
LOCATION:Oh Chihuahua Coffee Shop\, place du ventoux\, Venelles\, 13770\, France
CATEGORIES:Pumpkin week
ATTACH;FMTTYPE=image/jpeg:https://ohchihuahuacoffeeshop.fr/wp-content/uploads/2025/07/atelier-the.jpg
END:VEVENT
BEGIN:VEVENT
DTSTART;TZID=UTC:20251010T140000
DTEND;TZID=UTC:20251010T160000
DTSTAMP:20260425T005719
CREATED:20250715T105633Z
LAST-MODIFIED:20251006T150548Z
UID:3776-1760104800-1760112000@ohchihuahuacoffeeshop.fr
SUMMARY:Pumpkin week Atelier "Découverte des plantes et création d'une tisane"
DESCRIPTION:Atelier Découverte des Plantes & Création de Tisane – Une immersion au cœur des bienfaits naturels🌿 Animé par Nature Celtique \nOffrez-vous un voyage sensoriel et apaisant au cœur du règne végétal avec cet atelier unique\, dédié à la découverte des plantes médicinales et à la création de tisanes personnalisées. Sous la guidance experte de Nature Celtique\, vous apprendrez à reconnaître les vertus de diverses fleurs et plantes\, à comprendre leurs propriétés thérapeutiques\, ainsi qu’à maîtriser l’art délicat de la composition d’infusions savoureuses et bienfaisantes. \nAu fil de ce moment privilégié\, vous serez invité·e à humer\, toucher\, et sélectionner les ingrédients qui composeront votre mélange personnel\, pensé pour répondre à vos besoins et envies du moment — détente\, digestion\, énergie ou bien-être général. \n🌸 Ce que vous vivrez : Exploration des plantes médicinales\, leurs usages traditionnels et leurs secrets\, initiation aux techniques d’assemblage et de dosage pour créer des tisanes équilibrées et efficaces. Conseils pratiques pour l’infusion et la conservation de vos créations\, un temps d’échange et de partage autour des savoirs ancestraux liés aux plantes \nÀ la fin de l’atelier\, repartez avec votre tisane maison\, prête à être dégustée\, et la connaissance pour prolonger cette belle expérience au quotidien. \n✨ Repartez avec votre propre recette maison… à déguster au coin du feu ou à offrir.Pensez à apporter un bocal en verre (ou autre contenant hermétique) pour emporter votre création. \n🌿 Informations pratiques : Atelier pour adultes\, tous les ingrédients sont fournis\, le tarif couvre uniquement le matériel utilisé. Places limitées à 6 pour un moment convivial et personnalisé \n 
URL:https://ohchihuahuacoffeeshop.fr/atelier/atelier-creation-tisane/
LOCATION:Oh Chihuahua Coffee Shop\, place du ventoux\, Venelles\, 13770\, France
CATEGORIES:Pumpkin week
ATTACH;FMTTYPE=image/jpeg:https://ohchihuahuacoffeeshop.fr/wp-content/uploads/2025/07/atelier-tisane.jpg
END:VEVENT
BEGIN:VEVENT
DTSTART;TZID=UTC:20251011T110000
DTEND;TZID=UTC:20251011T140000
DTSTAMP:20260425T005719
CREATED:20250715T114800Z
LAST-MODIFIED:20251003T082019Z
UID:3793-1760180400-1760191200@ohchihuahuacoffeeshop.fr
SUMMARY:Pumpkin week "Le brunch d'automne"
DESCRIPTION:Brunch de Clôture – Pumpkin Week 🎃🍂 \nPour conclure en beauté cette semaine aux couleurs de l’automne\, nous vous invitons à partager un brunch chaleureux et gourmand\, imaginé tout spécialement pour l’occasion. \n🍁 Un moment à savourer ensemble\, pour prolonger la magie de la Pumpkin Week autour d’un repas convivial\, dans une ambiance douce et chaleureuse. \n🧡Le menu : 2 boissons\, (1 latté macchiato et un jus d’orange). Accompagné d’un bagel aux saveurs d’automnes\, un muesli\, fromage blanc et salade de fruits de saison. Et pour finir un ChihuaWOW une petite douceur sucrée et feuilletée qui séduira vos papilles. \nNous sommes ravies de vous proposer ce moment unique\, et avons hâte de vous y retrouver pour célébrer l’automne comme il se doit. Nombre de places limitées à 8.
URL:https://ohchihuahuacoffeeshop.fr/atelier/pumpkin-week-le-brunch-dautomne/
LOCATION:Oh Chihuahua Coffee Shop\, place du ventoux\, Venelles\, 13770\, France
CATEGORIES:Brunch
ATTACH;FMTTYPE=image/jpeg:https://ohchihuahuacoffeeshop.fr/wp-content/uploads/2025/07/brunch-automne.jpg
END:VEVENT
BEGIN:VEVENT
DTSTART;TZID=UTC:20251011T140000
DTEND;TZID=UTC:20251011T160000
DTSTAMP:20260425T005719
CREATED:20250717T130941Z
LAST-MODIFIED:20250717T131045Z
UID:3787-1760191200-1760198400@ohchihuahuacoffeeshop.fr
SUMMARY:Pumpkin week Atelier "Graine de complicité"
DESCRIPTION:Atelier “Faites pousser la nature chez vous” – Jardiner en ville avec Natercia🌱 Animé par Natercia – Pour « Le potager partagé de Venelles » \nEt si vous faisiez entrer un peu de nature dans votre quotidien\, même sans jardin ? Lors de cet atelier\, Natercia\, du Potager Partagé de Venelles\, vous partagera ses conseils pour un balcon\, un rebord de fenêtre\, ou même en intérieur plus vert ! Un atelier tout en douceur\, accessible à toutes et tous\, pour apprendre à faire pousser dans des petits espaces des herbes aromatiques (romarin\, menthe\, basilic\,…) et d’autres merveilles végétales.(Fleurs comestibles par exemple?!)  Au programme : Conseils pour cultiver facilement des plantes aromatiques chez soi\, semis guidé de graines pour les enfants.  Chaque enfant repartira avec un petit pot à chérir et à regarder pousser. Une jolie manière de se connecter à la nature\, même en ville\, et de faire grandir la patience et la curiosité. \n🍃 Informations pratiques : Atelier en famille (enfants bienvenus à partir de 4 ans)\, adapté à tous les niveaux\, même sans expérience\, matériel fourni (pensez à apporter un petit contenant si vous le souhaitez)\, vous repartirez avec une future plante ou fleur : prenez-en soin\, elle grandira avec vous ! \nUn moment à la fois ludique\, éducatif et porteur de sens\, pour apprendre à faire pousser la vie… où que vous soyez. Atelier pour adulte et enfant\, nombre de places limité à 10.
URL:https://ohchihuahuacoffeeshop.fr/atelier/pumpkin-week-atelier-graine-de-complicite/
LOCATION:Oh Chihuahua Coffee Shop\, place du ventoux\, Venelles\, 13770\, France
CATEGORIES:Pumpkin week
ATTACH;FMTTYPE=image/jpeg:https://ohchihuahuacoffeeshop.fr/wp-content/uploads/2025/07/atelier-graine-de-semi-1.jpg
END:VEVENT
BEGIN:VEVENT
DTSTART;TZID=UTC:20251011T163000
DTEND;TZID=UTC:20251011T173000
DTSTAMP:20260425T005719
CREATED:20250715T113029Z
LAST-MODIFIED:20250715T113029Z
UID:3789-1760200200-1760203800@ohchihuahuacoffeeshop.fr
SUMMARY:Pumpkin week Atelier "Magie blanche le grimoire des petites potions"
DESCRIPTION:Atelier enfants – Le grimoire des petites potions✨ Animé par Caroline ✨ \nPréparez-vous à une aventure magique et haute en couleurs ! Lors de cet atelier ludique et féerique\, Caroline invite les jeunes sorcier·ères en herbe à plonger dans l’univers mystérieux de la magie blanche. \nÀ partir de 5 ans\, les enfants découvriront les secrets des potions rigolotes et enchantées à travers un moment joyeux mêlant imagination\, découvertes sensorielles et créativité. Une grande potion collective sera concoctée\, suivie de la fabrication de plusieurs petites fioles magiques que chaque enfant pourra rapporter chez lui. \n🧪 Paillettes\, parfums\, textures étonnantes et couleurs fascinantes… mais que peuvent bien contenir ces mystérieuses bouteilles ? À eux de le découvrir et d’en inventer les pouvoirs ! \n🌟 Au programme : Création d’une grande potion magique en groupe\,fabrication de petites potions individuelles à emporter. Exploration ludique des couleurs\, des odeurs et des textures\, rires\, émerveillement et un brin de rêve pour nourrir l’imaginaire. \n🎩 Informations pratiques : À partir de 5 ans\, 6 places maximum\, atelier encadré dans un esprit bienveillant\, sécurisant et amusant. Les frais d’inscription couvrent uniquement le matériel utilisé. \nUne après-midi magique où rêves\, aventures et éclats de rire seront les meilleurs ingrédients… Et où chaque enfant repartira avec ses propres potions et des étoiles plein les yeux. ✨
URL:https://ohchihuahuacoffeeshop.fr/atelier/atelier-magie-blanche-2/
LOCATION:Oh Chihuahua Coffee Shop\, place du ventoux\, Venelles\, 13770\, France
CATEGORIES:Atelier enfants,Pumpkin week
ATTACH;FMTTYPE=image/jpeg:https://ohchihuahuacoffeeshop.fr/wp-content/uploads/2025/07/atelier-magie-grimoire.jpg
END:VEVENT
BEGIN:VEVENT
DTSTART;TZID=UTC:20251018T163000
DTEND;TZID=UTC:20251018T180000
DTSTAMP:20260425T005719
CREATED:20250623T090004Z
LAST-MODIFIED:20251002T135211Z
UID:3621-1760805000-1760810400@ohchihuahuacoffeeshop.fr
SUMMARY:Atelier BRODERIE PAUSE GOURMANDE
DESCRIPTION:Broderie Pause Gourmande – Je peux pas\, j’ai broderie !\nUn moment créatif et gourmand entre copines 🌸 \nEnvie d’une pause détente et créative entre amies ? Venez découvrir l’univers de la broderie lors d’un atelier convivial animé par L’Atelier des Envies.Aurélie vous guidera pas à pas pour personnaliser votre pièce et réaliser une broderie unique. Apportez une veste\, un sac ou tout autre accessoire à customiser… et repartez avec une création qui vous ressemble ! \n🧵 Atelier accessible à tous les niveaux🍰 L’atelier comprend un cappuccino et une douceur cookie ou muffin.✨ Un joli moment de partage\, de gourmandise et de création vous attend ! \n📌 Atelier réservé aux adultes et ados à partir de 16 ans (les boissons seront adaptées en conséquence).👥 6 places maximum – L’atelier est maintenu à partir de 3 inscrits (vous serez informé par mail ; en cas d’annulation\, un remboursement sera effectué).
URL:https://ohchihuahuacoffeeshop.fr/atelier/atelier-apero-broderie-2/
LOCATION:Oh Chihuahua Coffee Shop\, place du ventoux\, Venelles\, 13770\, France
CATEGORIES:Broderie
ATTACH;FMTTYPE=image/jpeg:https://ohchihuahuacoffeeshop.fr/wp-content/uploads/2025/06/atelier-gourmand-broderie.jpg
END:VEVENT
BEGIN:VEVENT
DTSTART;TZID=UTC:20251025T143000
DTEND;TZID=UTC:20251025T160000
DTSTAMP:20260425T005719
CREATED:20250801T084221Z
LAST-MODIFIED:20251021T153144Z
UID:3807-1761402600-1761408000@ohchihuahuacoffeeshop.fr
SUMMARY:Atelier LEGO thème "Halloween"
DESCRIPTION:🎃 Atelier LEGO Spécial Halloween pour enfants de 5 à 8 ans\nEntrez dans l’univers mystérieux et amusant d’Halloween avec notre atelier LEGO spécialement conçu pour les enfants de 5 à 8 ans ! \nGuidés par Olivier\, les enfants formeront des petites équipes pour construire ensemble dans une ambiance joyeusement frissonnante. Au programme : créativité\, construction\, et des aventures monstrueusement amusantes ! Les petits bâtisseurs pourront imaginer des scènes de citrouilles ensorcelées\, de maisons hantées ou de créatures farfelues\, tout en développant leur motricité fine et leur imagination. \n🧱 Activité ludique et éducative👧👦 Pour les enfants de 5 à 8 ans🍪 Goûter inclus \nCette activité ravira les jeunes fans de LEGO et de créatures fantastiques — un vrai moment de plaisir à partager à l’approche d’Halloween ! L’atelier sera maintenu à partir de 3 inscriptions\, nous vous tiendrons informé.
URL:https://ohchihuahuacoffeeshop.fr/atelier/atelier-lego-theme-halloween/
CATEGORIES:Atelier enfants
ATTACH;FMTTYPE=image/jpeg:https://ohchihuahuacoffeeshop.fr/wp-content/uploads/2025/08/lego-halloween.jpg
END:VEVENT
END:VCALENDAR