BEGIN:VCALENDAR
VERSION:2.0
PRODID:-//ohchihuahuacoffeeshop.fr - ECPv6.15.20//NONSGML v1.0//EN
CALSCALE:GREGORIAN
METHOD:PUBLISH
X-ORIGINAL-URL:https://ohchihuahuacoffeeshop.fr
X-WR-CALDESC:Évènements pour ohchihuahuacoffeeshop.fr
REFRESH-INTERVAL;VALUE=DURATION:PT1H
X-Robots-Tag:noindex
X-PUBLISHED-TTL:PT1H
BEGIN:VTIMEZONE
TZID:UTC
BEGIN:STANDARD
TZOFFSETFROM:+0000
TZOFFSETTO:+0000
TZNAME:UTC
DTSTART:20240101T000000
END:STANDARD
END:VTIMEZONE
BEGIN:VEVENT
DTSTART;TZID=UTC:20251107T170000
DTEND;TZID=UTC:20251107T180000
DTSTAMP:20260424T232712
CREATED:20250922T140856Z
LAST-MODIFIED:20250922T140953Z
UID:3915-1762534800-1762538400@ohchihuahuacoffeeshop.fr
SUMMARY:Conférence - Découvre ce qui te rend unique
DESCRIPTION:🎤 Atelier-Conférence Exceptionnel avec Jérémy GUILLAUME – Coach en Positivité 🌟 \n🧠 Thème : Révélez vos forces cachées et vos atouts uniques grâce à la puissance de l’échange et du partage 🤝 \n✨ Et si vos plus grandes ressources étaient déjà en vous\, mais simplement en sommeil ? Venez vivre une expérience interactive où la bienveillance\, l’écoute et la dynamique de groupe vous aideront à faire émerger le meilleur de vous-même 🌈🔥 \n\n🎯 Au programme :\n✅ Des échanges inspirants✅ Des prises de conscience puissantes✅ Des outils concrets pour cultiver la confiance et la positivité✅ Un espace sécurisé pour s’exprimer librement✅ Une belle dose d’énergie collective 💥 \n\n📅 Date : Vendredi 7 novembre🕔 Horaire : de 17h à 18h🔐 Inscription obligatoire – places limitées à 10 personnes! 🎟️ \n\n💬 « Un moment de partage authentique pour reconnecter à soi et repartir boosté·e ! »🚀 Animé par Jérémy GUILLAUME\, coach en positivité\, passionné par l’humain et la mise en lumière des potentiels cachés. \n🧡 Venez tel·le que vous êtes\, repartez aligné·e et inspiré·e !
URL:https://ohchihuahuacoffeeshop.fr/atelier/conference-decouvre-ce-qui-te-rend-unique/
LOCATION:Oh Chihuahua Coffee Shop\, place du ventoux\, Venelles\, 13770\, France
CATEGORIES:Acteur de sa vie,Conférence,Travail intérieur
ATTACH;FMTTYPE=image/png:https://ohchihuahuacoffeeshop.fr/wp-content/uploads/2025/09/Design-sans-titre.png
END:VEVENT
BEGIN:VEVENT
DTSTART;TZID=UTC:20251111T143000
DTEND;TZID=UTC:20251111T160000
DTSTAMP:20260424T232712
CREATED:20251024T071734Z
LAST-MODIFIED:20251027T101429Z
UID:3982-1762871400-1762876800@ohchihuahuacoffeeshop.fr
SUMMARY:Atelier LEGO thème "Défis"
DESCRIPTION:🎉 Atelier LEGO® – Les Défis des Super Constructeurs ! 🧱👧🧒 Pour les enfants de 6 à 8 ans \nPrêt(e) à relever des défis de construction complètement fous ? 💪😄En solo ou en équipe\, viens tester ton imagination et ta créativité pour bâtir\, inventer et surtout… t’amuser à fond  en compagnie d’Olivier notre formateur LEGO! 🚀 \n🏗️ Au programme :👉 Des défis de construction amusants👉 Du travail d’équipe et des fous rires👉 Et bien sûr… un super goûter pour reprendre des forces ! 🍪🍎🥤 \n🕓 Quand ? De 14h30 à 16h00💰 Tarif : 23 € (atelier + goûter compris 😋) \nUn après-midi de jeu\, d’apprentissage et de bonne humeur garantie ! 😍 \n  \nCette activité ravira les jeunes fans de LEGO — un vrai moment de plaisir à partager en ce jour férié ! L’atelier sera maintenu à partir de 3 inscriptions\, nous vous tiendrons informé.
URL:https://ohchihuahuacoffeeshop.fr/atelier/atelier-lego-theme-lego/
LOCATION:Oh Chihuahua Coffee Shop\, place du ventoux\, Venelles\, 13770\, France
CATEGORIES:Atelier enfants
ATTACH;FMTTYPE=image/jpeg:https://ohchihuahuacoffeeshop.fr/wp-content/uploads/2025/10/visuel-atelier-broderie.jpg
END:VEVENT
BEGIN:VEVENT
DTSTART;TZID=UTC:20251115T110000
DTEND;TZID=UTC:20251115T140000
DTSTAMP:20260424T232712
CREATED:20250922T073406Z
LAST-MODIFIED:20250922T073406Z
UID:3903-1763204400-1763215200@ohchihuahuacoffeeshop.fr
SUMMARY:Brunch spécial Célibataires
DESCRIPTION:🥂 Brunch spécial Célibataires – de 25 à 55 ans\nSamedi 15 novembre – de 11h à 14h \nVous êtes célibataire et vous avez envie de passer un bon moment tout en explorant les mystères de l’amour ? Ce brunch est fait pour vous !Venez savourer un délicieux moment\, rencontrer d’autres célibataires dans une ambiance conviviale\, et peut-être… trouver plus que des réponses à vos questions ❤️ \nAu programme :🕚 11h – 13h : Brunch gourmand & rencontres informelles – l’occasion parfaite pour faire connaissance\, échanger et rire autour d’un bon café.🕐 13h – 14h : Atelier avec une love coach passionnée\, pour explorer des pistes concrètes sur les relations amoureuses. \nL’atelier animé par Alexandra de Boisvilliers votre LOVE COACH vous permettra de :💘 Comprendre ce qui compte vraiment dans la compatibilité amoureuse : reconnaître l’amour qui vous correspond réellement.📱 Mieux utiliser les applis de rencontre : arrêter de perdre votre temps et apprendre à aller droit au but !💬 Décoder pourquoi vos rencontres ne dépassent pas les 1 à 3 rendez-vous\, et comment créer une véritable connexion émotionnelle\, au-delà des apparences. \n\nPlaces limitées – Réservez vite votre spot pour ce moment riche en saveurs… et en révélations !✨ Brunch + Atelier = une matinée à ne pas manquer ✨ \nPrix : 35 euros brunch + atelier love coach
URL:https://ohchihuahuacoffeeshop.fr/atelier/brunch-special-celibataires/
LOCATION:Oh Chihuahua Coffee Shop\, place du ventoux\, Venelles\, 13770\, France
CATEGORIES:Brunch
ATTACH;FMTTYPE=image/jpeg:https://ohchihuahuacoffeeshop.fr/wp-content/uploads/2025/09/brunch-celib.jpg
END:VEVENT
BEGIN:VEVENT
DTSTART;TZID=UTC:20251115T163000
DTEND;TZID=UTC:20251115T180000
DTSTAMP:20260424T232712
CREATED:20250623T090235Z
LAST-MODIFIED:20251002T134328Z
UID:3624-1763224200-1763229600@ohchihuahuacoffeeshop.fr
SUMMARY:Atelier BRODERIE PAUSE GOURMANDE
DESCRIPTION:Broderie Pause Gourmande – Je peux pas\, j’ai broderie !\nUn moment créatif et gourmand entre copines 🌸 \nEnvie d’une pause détente et créative entre amies ? Venez découvrir l’univers de la broderie lors d’un atelier convivial animé par L’Atelier des Envies.Aurélie vous guidera pas à pas pour personnaliser votre pièce et réaliser une broderie unique. Apportez une veste\, un sac ou tout autre accessoire à customiser… et repartez avec une création qui vous ressemble ! \n🧵 Atelier accessible à tous les niveaux🍰 L’atelier comprend un cappuccino et une douceur cookie ou muffin.✨ Un joli moment de partage\, de gourmandise et de création vous attend ! \n📌 Atelier réservé aux adultes et ados à partir de 16 ans (les boissons seront adaptées en conséquence).👥 6 places maximum – L’atelier est maintenu à partir de 3 inscrits (vous serez informé par mail ; en cas d’annulation\, un remboursement sera effectué).
URL:https://ohchihuahuacoffeeshop.fr/atelier/atelier-apero-broderie-3/
LOCATION:Oh Chihuahua Coffee Shop\, place du ventoux\, Venelles\, 13770\, France
CATEGORIES:Broderie
ATTACH;FMTTYPE=image/jpeg:https://ohchihuahuacoffeeshop.fr/wp-content/uploads/2025/06/atelier-gourmand-broderie.jpg
END:VEVENT
BEGIN:VEVENT
DTSTART;TZID=UTC:20251122T143000
DTEND;TZID=UTC:20251122T170000
DTSTAMP:20260424T232712
CREATED:20250923T100127Z
LAST-MODIFIED:20251118T090912Z
UID:3921-1763821800-1763830800@ohchihuahuacoffeeshop.fr
SUMMARY:ATELIER LEGO POUR ADULTES
DESCRIPTION:🧱 ATELIER LEGO POUR ADULTES 🧱(Sans enfants. Sans manuels. Sans pression. Que du fun.) \nTu te souviens de la dernière fois que tu as touché une brique LEGO ? Non ? Justement.Viens revivre cette joie pure de construire\, démonter\, galérer\, puis rigoler\, le tout version adulte\, avec un verre à la main et des défis bien plus tordus que dans ton enfance. \n🔧 Le programme (durée : 2h30) :\n\n\nPhase d’échauffement : une petite construction guidée pour réveiller tes talents enfouis (et ton imagination de 1998) \n\n\nPhase de challenge : place au défi créatif en groupe\, à partir d’un buffet de briques limité (oui\, limité\, parce que trop facile sinon).Imagine : des murs sans briques\, des roues sans voiture\, et ton équipe qui débat pendant 10 minutes pour faire une girafe en LEGO avec 3 pièces jaunes et une brique rose. \n\n\n🧃 C’est quoi l’ambiance ?\nFun\, décontractée\, un peu compétitive mais surtout ultra conviviale.Pas besoin d’être un expert ni d’avoir un diplôme en ingénierie LEGO.Juste l’envie de t’amuser\, de créer\, et de redécouvrir ce plaisir simple qu’on avait tous enfant (sans marcher sur une brique cette fois). \n👥 Format intimiste :\n10 participants max — histoire que tout le monde ait de la place pour construire et raconter sa vie pendant qu’il le fait. \n💸 Tarif : 40 €/personne\n(Comprend tout : les briques\, l’animation\, les idées tordues. Reste à ta charge : le sourire\, la boisson et ton esprit d’équipe.)
URL:https://ohchihuahuacoffeeshop.fr/atelier/atelier-lego-pour-adultes/
LOCATION:Oh Chihuahua Coffee Shop\, place du ventoux\, Venelles\, 13770\, France
CATEGORIES:Atelier LEGO ADULTES
ATTACH;FMTTYPE=image/jpeg:https://ohchihuahuacoffeeshop.fr/wp-content/uploads/2025/09/lego-adulte-1.jpg
END:VEVENT
END:VCALENDAR